BEGIN:VCALENDAR
PRODID:NingEventWidget-v1
VERSION:2.0
METHOD:PUBLISH
BEGIN:VTIMEZONE
TZID:Europe/London
X-LIC-LOCATION:Europe/London
BEGIN:DAYLIGHT
TZOFFSETFROM:+0000
TZOFFSETTO:+0100
TZNAME:BST
DTSTART:19700329T010000
RRULE:FREQ=YEARLY;BYMONTH=3;BYDAY=-1SU
END:DAYLIGHT
BEGIN:STANDARD
TZOFFSETFROM:+0100
TZOFFSETTO:+0000
TZNAME:GMT
DTSTART:19701025T020000
RRULE:FREQ=YEARLY;BYMONTH=10;BYDAY=-1SU
END:STANDARD
END:VTIMEZONE
BEGIN:VEVENT
UID:4626108:Event:6817
DTSTAMP:20260422T184608Z
SUMMARY:FREE Online Video & Personal Branding Evening, Guildford
DESCRIPTION:FREE Personal Branding Seminar at the Holiday Inn\n\nThe T
 wenty-first Century has seen the rise and rise of 'The Personal Brand'
 . From the empires of Richard Branson and Brad Burton to the one-perso
 n micro-business, the mantra 'people buy people' has never been truer!
  Come along to this free event to network and hear personal brand and
  career development coach Tessa Hood's revealing presentation on ‘C
 reating and Building your Personal Brand’ both online and offline. 
 \nOne of the best ways to be seen as an expert in your field is litera
 lly to be both seen and heard online and in emails. Online video is ta
 king the internet by storm as a means of marketing your business.\nSe
 e (and hear) Video emails in action!Self-confessed ‘non-techie’ Te
 ssa will show you a new software product (launching in the UK this yea
 r) she uses daily to send branded video emails, easily and affordably.
 \n'My Video Talk' is a suite of easy-to-use online tools allowing bus
 inesses of any size to create and brand low-cost video emails and ot
 her powerful video marketing materials. These include:  Video WebMe
 eting, HD Video Broadcasting,  Social Media Video Webshow (a cross be
 tween iPlayer and Facebook!), and your own dedicated Video Channel.\nA
 nd there's more...\nAfter Tessa's Presentation and the brief live demo
  there will be a short break.  Anybody who wishes can then come back 
 for  a short 15-minute presentation from Richard Street introducing 
 the My Video Talk business opportunity. These amazing new products, se
 t to take the business world by storm, are distributed via the network
  marketing model. Richard is a network marketing specialist who will s
 imply explain how you can make a substantial additional income stream 
 just by using My Video Talk to promote your existing business, and tel
 ling others about it.\nThis evening is an awareness-raising exercise, 
 not  a sales pitch. You won’t be asked to buy or sign up to anythin
 g, and that’s a promise!\nBOOK NOW: If you’d like to come along an
 d see for yourself, please confirm your free place so we can be sure 
 to book a room of the right size.. .thanks! Call Tessa on 01932 868868
  or 07774 189913.\nSee an example first…If you would like to see an 
 example video mail before deciding to attend, Tessa will be delighted 
 to design one especially for you to show how quick, easy and effective
  My Video Talk really is.\nMAP\nParking: Ample and free\nRefreshments:
  Available to buy (hotel rates)\n\n\nFor more information visit https:
 //networkinginsurrey.co.uk/events/free-online-video-personal
DTSTART;TZID=Europe/London:20110511T190000
DTEND;TZID=Europe/London:20110511T203000
CATEGORIES:free, evening, guildford
LOCATION:The Holiday Inn GU2 7XZ
WEBSITE:http://maps.google.co.uk/maps?oe=utf-8&client=firefox-a&rlz=1R
 1GGIT_en-GB___GB390&um=1&ie=UTF-8&cid=0,0,7215462239441953099&fb=1&hq=
 The+Holiday+Inn&hnear=Guildford&gl=uk&daddr=Egerton+Rd,+Guildford+GU2+
 7XZ&geocode=9996402878638684123,51.237477,-0.602844&ei=HuYtTYqXI465hAf
 Ur-S8CQ&sa=X&oi=local_result&ct=directions-to&resnum=2&ved=0CCEQngIwAQ
URL:http://maps.google.co.uk/maps?oe=utf-8&client=firefox-a&rlz=1R1GGI
 T_en-GB___GB390&um=1&ie=UTF-8&cid=0,0,7215462239441953099&fb=1&hq=The+
 Holiday+Inn&hnear=Guildford&gl=uk&daddr=Egerton+Rd,+Guildford+GU2+7XZ&
 geocode=9996402878638684123,51.237477,-0.602844&ei=HuYtTYqXI465hAfUr-S
 8CQ&sa=X&oi=local_result&ct=directions-to&resnum=2&ved=0CCEQngIwAQ
CONTACT:01932 868 868/ 07774 189913
ORGANIZER;CN="Tessa Hood":https://networkinginsurrey.co.uk/profile/Tes
 saHood
ATTACH;FMTTYPE="image/jpeg":http://storage.ning.com/topology/rest/1.0/
 file/get/2591391101?profile=original
ATTENDEE;ROLE=REQ-PARTICIPANT;PARTSTAT=ACCEPTED;RSVP=TRUE;CN="Nicola B
 onfanti":https://networkinginsurrey.co.uk/profile/NicolaBonfanti
ATTENDEE;ROLE=REQ-PARTICIPANT;PARTSTAT=ACCEPTED;RSVP=TRUE;CN="Fiona Ro
 ss":https://networkinginsurrey.co.uk/profile/FionaRossGuimont
ATTENDEE;ROLE=REQ-PARTICIPANT;PARTSTAT=ACCEPTED;RSVP=TRUE;CN="Kay Ange
 ll":https://networkinginsurrey.co.uk/profile/KayAngell
ATTENDEE;ROLE=REQ-PARTICIPANT;PARTSTAT=ACCEPTED;RSVP=TRUE;CN="Tessa Ho
 od":https://networkinginsurrey.co.uk/profile/TessaHood
ATTENDEE;ROLE=REQ-PARTICIPANT;PARTSTAT=ACCEPTED;RSVP=TRUE;CN="Keith Gr
 over, NiS Founder":https://networkinginsurrey.co.uk/profile/KeithGrove
 r
ATTENDEE;ROLE=REQ-PARTICIPANT;PARTSTAT=ACCEPTED;RSVP=TRUE;CN="Vasco de
  Gouveia":https://networkinginsurrey.co.uk/profile/VascodeGouveia305
ATTENDEE;ROLE=REQ-PARTICIPANT;PARTSTAT=ACCEPTED;RSVP=TRUE;CN="Karen Pu
 rves":https://networkinginsurrey.co.uk/profile/KarenPurves
ATTENDEE;ROLE=REQ-PARTICIPANT;PARTSTAT=ACCEPTED;RSVP=TRUE;CN="Nigel Gr
 aham Stuart Lambert":https://networkinginsurrey.co.uk/profile/NigelGra
 hamStuartLambert
END:VEVENT
END:VCALENDAR
