BEGIN:VCALENDAR
PRODID:NingEventWidget-v1
VERSION:2.0
METHOD:PUBLISH
BEGIN:VTIMEZONE
TZID:Europe/London
X-LIC-LOCATION:Europe/London
BEGIN:DAYLIGHT
TZOFFSETFROM:+0000
TZOFFSETTO:+0100
TZNAME:BST
DTSTART:19700329T010000
RRULE:FREQ=YEARLY;BYMONTH=3;BYDAY=-1SU
END:DAYLIGHT
BEGIN:STANDARD
TZOFFSETFROM:+0100
TZOFFSETTO:+0000
TZNAME:GMT
DTSTART:19701025T020000
RRULE:FREQ=YEARLY;BYMONTH=10;BYDAY=-1SU
END:STANDARD
END:VTIMEZONE
BEGIN:VEVENT
UID:4626108:Event:351488
DTSTAMP:20260422T131132Z
SUMMARY:FREE Omni Local Weybridge Breakfast Hub
DESCRIPTION:Omni LocalÂ Walton & WeybridgeÂ Virtual Hub\r\n\r\nAll our
  OMNI Local Networking groups are moving online for the duration of th
 e current crisis.\r\nVisitors are welcome to register to take part in 
 any of our online meetings, but there is a 24-person limit on numbers,
  and priority will be given to Members of the local home Omni group.Â 
 \r\nMeetings are currently free to attend forÂ Omni Members, and alsoÂ
  VisitorsÂ who have not attended more thanÂ 3 meetingsÂ (conditionsÂ s
 ubject to change).\r\nCOST: FREE - registration is essential please\r\
 nBOOKING: PleaseÂ REGISTER to take part here...Â \r\nTo attend this me
 eting please visit Zoom -Â https://us04web.zoom.us/joinÂ  You will be 
 sent theÂ meeting passwordÂ once you have reserved your place.\r\nTo s
 ave time in advance please download the Zoom App -Â https://zoom.us/do
 wnload\r\n--------------------------------------\r\nFind more Omni Loc
 al Networking GroupsÂ here on NiS...\r\nFor more information, please v
 isit theÂ Omni Local website here...\n\nFor more information visit htt
 ps://networkinginsurrey.co.uk/events/free-omni-local-weybridge-breakfa
 st-hub
DTSTART;TZID=Europe/London:20200422T074500
DTEND;TZID=Europe/London:20200422T093000
CATEGORIES:breakfast, weybridge, omni, b2b
LOCATION:Online only
WEBSITE:http://omnilocalbusinessnetworking.com/index.php/our-meetings/
 2016-03-23-10-44-44/by-date/9-twickenham-teddington-launch
URL:http://omnilocalbusinessnetworking.com/index.php/our-meetings/2016
 -03-23-10-44-44/by-date/9-twickenham-teddington-launch
CONTACT:07898 870 870
ORGANIZER:Darren Evans and Richard Ranson
ATTACH;FMTTYPE="image/jpeg":https://storage.ning.com/topology/rest/1.0
 /file/get/180352182?profile=original
ATTENDEE;ROLE=REQ-PARTICIPANT;PARTSTAT=ACCEPTED;RSVP=TRUE;CN="John Gow
 er":https://networkinginsurrey.co.uk/profile/John
END:VEVENT
END:VCALENDAR
