BEGIN:VCALENDAR
PRODID:NingEventWidget-v1
VERSION:2.0
METHOD:PUBLISH
BEGIN:VTIMEZONE
TZID:Europe/London
X-LIC-LOCATION:Europe/London
BEGIN:DAYLIGHT
TZOFFSETFROM:+0000
TZOFFSETTO:+0100
TZNAME:BST
DTSTART:19700329T010000
RRULE:FREQ=YEARLY;BYMONTH=3;BYDAY=-1SU
END:DAYLIGHT
BEGIN:STANDARD
TZOFFSETFROM:+0100
TZOFFSETTO:+0000
TZNAME:GMT
DTSTART:19701025T020000
RRULE:FREQ=YEARLY;BYMONTH=10;BYDAY=-1SU
END:STANDARD
END:VTIMEZONE
BEGIN:VEVENT
UID:4626108:Event:363991
DTSTAMP:20260422T114759Z
SUMMARY:FREE Omni Local Caterham Breakfast Hub
DESCRIPTION:Omni Local Caterham and Warlingham Virtual Hub \r\nAll ou
 r OMNI Local Networking groups are moving online for the duration of t
 he current crisis so our Members and Visitors can stay in touch...\r\
 nMeetings are currently free to attend for Omni Members, and also Visi
 tors who have not attended more than 3 meetings (conditions subject
  to change).\r\nThere is a 24-person limit on numbers, and priority wi
 ll be given to Members of the local home Omni group. \r\nCOST: FREE -
  registration is essential please. \r\nBOOKING: Please REGISTER to t
 ake part here... \r\nTo attend this meeting please visit Zoom - http
 s://us04web.zoom.us/join  You will be sent the meeting password once 
 you have reserved your place.\r\nTo save time in advance please downlo
 ad the Zoom App - https://zoom.us/download\r\n-----------------------
 ---------------\r\nFind more Omni Local Networking Groups here on NiS
 ...\r\nFor more information, please visit the Omni Local website here
 ...\n\nFor more information visit https://networkinginsurrey.co.uk/eve
 nts/free-omni-local-warlingham-breakfast-hub-1
DTSTART;TZID=Europe/London:20200514T074500
DTEND;TZID=Europe/London:20200514T093000
CATEGORIES:breakfast, warlingham, b2b, omni
LOCATION:Online only
WEBSITE:http://omnilocalbusinessnetworking.com/
URL:http://omnilocalbusinessnetworking.com/
CONTACT:07898 870 870
ORGANIZER:Ivan Moorhouse
ATTACH;FMTTYPE="image/jpeg":https://storage.ning.com/topology/rest/1.0
 /file/get/541441935?profile=original
ATTENDEE;ROLE=REQ-PARTICIPANT;PARTSTAT=ACCEPTED;RSVP=TRUE;CN="John Gow
 er":https://networkinginsurrey.co.uk/profile/John
END:VEVENT
END:VCALENDAR
