BEGIN:VCALENDAR
PRODID:NingEventWidget-v1
VERSION:2.0
METHOD:PUBLISH
BEGIN:VTIMEZONE
TZID:Europe/London
X-LIC-LOCATION:Europe/London
BEGIN:DAYLIGHT
TZOFFSETFROM:+0000
TZOFFSETTO:+0100
TZNAME:BST
DTSTART:19700329T010000
RRULE:FREQ=YEARLY;BYMONTH=3;BYDAY=-1SU
END:DAYLIGHT
BEGIN:STANDARD
TZOFFSETFROM:+0100
TZOFFSETTO:+0000
TZNAME:GMT
DTSTART:19701025T020000
RRULE:FREQ=YEARLY;BYMONTH=10;BYDAY=-1SU
END:STANDARD
END:VTIMEZONE
BEGIN:VEVENT
UID:4626108:Event:376652
DTSTAMP:20260423T023057Z
SUMMARY:Omni Local Twickenham Breakfast Hub
DESCRIPTION:Omni Local Twickenham and Teddington Virtual Hub \r\nAll 
 our OMNI Local Networking groups are moving online for the duration of
  the current crisis so our Members and Visitors can stay in touch...\
 r\nMeetings are currently free to attend for Omni Members, and also Vi
 sitors who have not attended more than 3 meetings (conditions subje
 ct to change). From 18 May there will be a meeting fee of £6.\r\nTher
 e is a 24-person limit on numbers, and priority will be given to Membe
 rs of the local home Omni group. \r\nTo save time in advance if you h
 aven't already done so please download the Zoom App here... \r\nTo j
 oin this meeting on the day, please visit Zoom here... and enter th
 e Meeting ID and password you will receive once you have paid and re
 served your place.\r\nCOST: £6 - payable prior to the meeting.\r\nBO
 OKING: Please REGISTER to take part here... \r\n--------------------
 ------------------\r\nFind more Omni Local Networking Groups here on 
 NiS...\r\nFor more information, please visit the Omni Local website h
 ere...\n\nFor more information visit https://networkinginsurrey.co.uk/
 events/free-omni-local-twickenham-breakfast-hub-1
DTSTART;TZID=Europe/London:20200611T074500
DTEND;TZID=Europe/London:20200611T093000
CATEGORIES:breakfast, twickenham, b2b, omni
LOCATION:Online only
WEBSITE:http://omnilocalbusinessnetworking.com/
URL:http://omnilocalbusinessnetworking.com/
CONTACT:07898 870 870
ORGANIZER:Jonathan Hughes and Paul Smith
ATTACH;FMTTYPE="image/jpeg":https://storage.ning.com/topology/rest/1.0
 /file/get/541441935?profile=original
ATTENDEE;ROLE=REQ-PARTICIPANT;PARTSTAT=ACCEPTED;RSVP=TRUE;CN="John Gow
 er":https://networkinginsurrey.co.uk/profile/John
END:VEVENT
END:VCALENDAR
