BEGIN:VCALENDAR
PRODID:NingEventWidget-v1
VERSION:2.0
METHOD:PUBLISH
BEGIN:VTIMEZONE
TZID:Europe/London
X-LIC-LOCATION:Europe/London
BEGIN:DAYLIGHT
TZOFFSETFROM:+0000
TZOFFSETTO:+0100
TZNAME:BST
DTSTART:19700329T010000
RRULE:FREQ=YEARLY;BYMONTH=3;BYDAY=-1SU
END:DAYLIGHT
BEGIN:STANDARD
TZOFFSETFROM:+0100
TZOFFSETTO:+0000
TZNAME:GMT
DTSTART:19701025T020000
RRULE:FREQ=YEARLY;BYMONTH=10;BYDAY=-1SU
END:STANDARD
END:VTIMEZONE
BEGIN:VEVENT
UID:4626108:Event:543696
DTSTAMP:20260421T133642Z
SUMMARY:Omni Local Afternoon Speed Networking Online
DESCRIPTION:Omni Local Afternoon Speed Networking Hour\r\nThe Need  
 for SPEED!\r\nZoom Speed Networking with Omni is fast, furious and fun
 ... and currently FREE!\r\nIn the space of just one hour, you'll have 
 a series of 1-2-1 meetings with at least ten people - we don't hang ar
 ound! \r\nTo join this meeting on the day, please click the link we 
 will send you.\r\nTo save time in advance please download the Zoom Ap
 p here... \r\nCOST: £6\r\nBOOKING: Please REGISTER to take part her
 e... \r\n--------------------------------------\r\nFind more Omni Loc
 al Networking Groups here on NiS...\r\nFor more information, please v
 isit the Omni Local website here...\n\nFor more information visit htt
 ps://networkinginsurrey.co.uk/events/free-omni-local-evening-speed-net
 working-online-3
DTSTART;TZID=Europe/London:20241111T170000
DTEND;TZID=Europe/London:20241111T180000
CATEGORIES:evening, speed, omni
LOCATION:Online only
WEBSITE:http://omnilocalbusinessnetworking.com/
URL:http://omnilocalbusinessnetworking.com/
CONTACT:07898 870 870
ORGANIZER;CN="John Gower":https://networkinginsurrey.co.uk/profile/Joh
 n
ATTACH;FMTTYPE="image/jpeg":https://storage.ning.com/topology/rest/1.0
 /file/get/8744585891?profile=original
ATTENDEE;ROLE=REQ-PARTICIPANT;PARTSTAT=ACCEPTED;RSVP=TRUE;CN="John Gow
 er":https://networkinginsurrey.co.uk/profile/John
END:VEVENT
END:VCALENDAR
