BEGIN:VCALENDAR
PRODID:NingEventWidget-v1
VERSION:2.0
METHOD:PUBLISH
BEGIN:VTIMEZONE
TZID:Europe/London
X-LIC-LOCATION:Europe/London
BEGIN:DAYLIGHT
TZOFFSETFROM:+0000
TZOFFSETTO:+0100
TZNAME:BST
DTSTART:19700329T010000
RRULE:FREQ=YEARLY;BYMONTH=3;BYDAY=-1SU
END:DAYLIGHT
BEGIN:STANDARD
TZOFFSETFROM:+0100
TZOFFSETTO:+0000
TZNAME:GMT
DTSTART:19701025T020000
RRULE:FREQ=YEARLY;BYMONTH=10;BYDAY=-1SU
END:STANDARD
END:VTIMEZONE
BEGIN:VEVENT
UID:4626108:Event:526196
DTSTAMP:20260420T214702Z
SUMMARY:FREE Omni Local Evening Speed Networking Hour
DESCRIPTION:FREE Omni Local Evening Speed Networking Hour\r\nThe NeedÂ
   for SPEED!\r\nZoom Speed Networking with Omni is fast, furious and f
 un... and currently FREE!\r\nIn the space of just one hour, you'll hav
 e a series of 1-2-1 meetings with at least ten people - we don't hang 
 around!Â \r\nTo join this meetingÂ on the day, please click the link w
 e will send you.\r\nTo save time in advance please download theÂ Zoom 
 App here...Â \r\nCOST: FREE\r\nBOOKING: PleaseÂ REGISTER to take part 
 here...Â \r\n--------------------------------------\r\nFind more Omni 
 Local Networking GroupsÂ here on NiS...\r\nFor more information, pleas
 e visit theÂ Omni Local website here...\n\nFor more information visit 
 https://networkinginsurrey.co.uk/events/free-omni-local-evening-speed-
 networking-hour
DTSTART;TZID=Europe/London:20210407T183000
DTEND;TZID=Europe/London:20210407T193000
CATEGORIES:evening, speed, omni
LOCATION:Online only
WEBSITE:http://omnilocalbusinessnetworking.com/
URL:http://omnilocalbusinessnetworking.com/
CONTACT:07898 870 870
ORGANIZER;CN="John Gower":https://networkinginsurrey.co.uk/profile/Joh
 n
ATTACH;FMTTYPE="image/jpeg":https://storage.ning.com/topology/rest/1.0
 /file/get/8744585891?profile=original
ATTENDEE;ROLE=REQ-PARTICIPANT;PARTSTAT=ACCEPTED;RSVP=TRUE;CN="John Gow
 er":https://networkinginsurrey.co.uk/profile/John
END:VEVENT
END:VCALENDAR
