BEGIN:VCALENDAR
PRODID:NingEventWidget-v1
VERSION:2.0
METHOD:PUBLISH
BEGIN:VTIMEZONE
TZID:Europe/London
X-LIC-LOCATION:Europe/London
BEGIN:DAYLIGHT
TZOFFSETFROM:+0000
TZOFFSETTO:+0100
TZNAME:BST
DTSTART:19700329T010000
RRULE:FREQ=YEARLY;BYMONTH=3;BYDAY=-1SU
END:DAYLIGHT
BEGIN:STANDARD
TZOFFSETFROM:+0100
TZOFFSETTO:+0000
TZNAME:GMT
DTSTART:19701025T020000
RRULE:FREQ=YEARLY;BYMONTH=10;BYDAY=-1SU
END:STANDARD
END:VTIMEZONE
BEGIN:VEVENT
UID:4626108:Event:370376
DTSTAMP:20260423T053300Z
SUMMARY:Omni Local Epsom Breakfast Hub
DESCRIPTION:Omni Local Epsom and Ewell Virtual Hub \r\nAll our OMNI L
 ocal Networking groups are moving online for the duration of the curre
 nt crisis so our Members andVisitors can stay in touch...\r\n\r\nMeet
 ings are currently free to attend for Omni Members, and also Visitors 
 who have not attended more than 3 meetings (conditions subject to c
 hange).\r\nThere is a 24-person limit on numbers, and priority will be
  given to Members of the local home Omni group. \r\nTo save time in a
 dvance please download the Zoom App - https://zoom.us/download\r\nCOS
 T: £6 \r\nBOOKING: Please both REGISTER to take part here... and m
 ake payment by using this link... \r\nOnce your payment has been rece
 ived and processed, you will get an email confirming this, together wi
 th the Zoom meeting ID.\r\n--------------------------------------\r\nF
 ind more Omni Local Networking Groups here on NiS...\r\nFor more info
 rmation, please visit the Omni Local website here...\n\nFor more info
 rmation visit https://networkinginsurrey.co.uk/events/free-omni-local-
 epsom-breakfast-hub-4
DTSTART;TZID=Europe/London:20200529T074500
DTEND;TZID=Europe/London:20200529T093000
CATEGORIES:breakfast, epsom, b2b, omni
LOCATION:Online only
WEBSITE:http://omnilocalbusinessnetworking.com/
URL:http://omnilocalbusinessnetworking.com/
CONTACT:07898 870 870
ORGANIZER:John Ballard and Gillian Nichols
ATTACH;FMTTYPE="image/jpeg":https://storage.ning.com/topology/rest/1.0
 /file/get/541441935?profile=original
ATTENDEE;ROLE=REQ-PARTICIPANT;PARTSTAT=ACCEPTED;RSVP=TRUE;CN="John Gow
 er":https://networkinginsurrey.co.uk/profile/John
END:VEVENT
END:VCALENDAR
