BEGIN:VCALENDAR
PRODID:NingEventWidget-v1
VERSION:2.0
METHOD:PUBLISH
BEGIN:VTIMEZONE
TZID:Europe/London
X-LIC-LOCATION:Europe/London
BEGIN:DAYLIGHT
TZOFFSETFROM:+0000
TZOFFSETTO:+0100
TZNAME:BST
DTSTART:19700329T010000
RRULE:FREQ=YEARLY;BYMONTH=3;BYDAY=-1SU
END:DAYLIGHT
BEGIN:STANDARD
TZOFFSETFROM:+0100
TZOFFSETTO:+0000
TZNAME:GMT
DTSTART:19701025T020000
RRULE:FREQ=YEARLY;BYMONTH=10;BYDAY=-1SU
END:STANDARD
END:VTIMEZONE
BEGIN:VEVENT
UID:4626108:Event:55947
DTSTAMP:20260419T142238Z
SUMMARY:GUEST EVENT: FREE Networking Afternoon, Bracknell
DESCRIPTION:Storage Facility Lunch Party in Bracknell\n\nOK - we admit
  we're using the launch photo of our Littlehampton branch last year (t
 hink of it as an artist's impression!) At least you haven't missed the
  party!\nTitan Storage Solutions would like to invite you to join us a
 t our official launch networking event at our brand new facility in Br
 acknell.\n* Meet the Mayor\n* Free Hog Roast\n* Free Beer & Wine\n* Co
 nnect with like-minded business people\n* Discover potential new busi
 ness\n* Raise the public profile of your business\nWe also have arrang
 e a crazy mini golf, asking people to make a small donation to have a 
 go. As we are sponsoring and supporting the Sebastians Action Trust th
 is year.\nCOST: FREE to attend and free drinks - buy your own hog roas
 t\nBOOKING: To confirm attendance please telephone 01344 266805 or em
 ail Karen@titanstorage.co.uk\nMAP\n\nFor more information visit https
 ://networkinginsurrey.co.uk/events/free-official-launch-networking-eve
 nt
DTSTART;TZID=Europe/London:20130503T130000
DTEND;TZID=Europe/London:20130503T190000
CATEGORIES:launch, networking, event
LOCATION:Bracknell - Unit 9, The Sterling Centre
WEBSITE:http://www.titanstorage.co.uk
URL:http://www.titanstorage.co.uk
CONTACT:01344 266805
ORGANIZER;CN="Karen Wozniak":https://networkinginsurrey.co.uk/profile/
 KarenWozniak
ATTACH;FMTTYPE="image/jpeg":http://storage.ning.com/topology/rest/1.0/
 file/get/2591429597?profile=original
ATTENDEE;ROLE=REQ-PARTICIPANT;PARTSTAT=ACCEPTED;RSVP=TRUE;CN="Lord Ham
 ilton of Glencoe":https://networkinginsurrey.co.uk/profile/BrianIanHam
 ilton
ATTENDEE;ROLE=REQ-PARTICIPANT;PARTSTAT=ACCEPTED;RSVP=TRUE;CN="Karen Wo
 zniak":https://networkinginsurrey.co.uk/profile/KarenWozniak
END:VEVENT
END:VCALENDAR
