BEGIN:VCALENDAR
PRODID:NingEventWidget-v1
VERSION:2.0
METHOD:PUBLISH
BEGIN:VTIMEZONE
TZID:Europe/London
X-LIC-LOCATION:Europe/London
BEGIN:DAYLIGHT
TZOFFSETFROM:+0000
TZOFFSETTO:+0100
TZNAME:BST
DTSTART:19700329T010000
RRULE:FREQ=YEARLY;BYMONTH=3;BYDAY=-1SU
END:DAYLIGHT
BEGIN:STANDARD
TZOFFSETFROM:+0100
TZOFFSETTO:+0000
TZNAME:GMT
DTSTART:19701025T020000
RRULE:FREQ=YEARLY;BYMONTH=10;BYDAY=-1SU
END:STANDARD
END:VTIMEZONE
BEGIN:VEVENT
UID:4626108:Event:11610
DTSTAMP:20260422T190511Z
SUMMARY:FREE NSBA Open Evening, Chertsey
DESCRIPTION:Free Networking Evening at The Crown\nThe North Surrey Bus
 iness Association invites you to an open, free networking evening.  G
 et to know other local business people in a relaxed environment.\nTher
 e is no charge, either for the event or refreshments.  It's one of th
 ose rare things in life that is truly free!  We hope you can make it,
  and look forward to meeting you.\nCLICK HERE TO BOOK  There's no cha
 rge, but please register to help us arrange the catering.\nMAP\nVENUE\
 n-------------------------------\nNorth Surrey Business Association\nT
 he North Surrey Business Association is a not-for-profit group of loca
 l businesses who are focused on passing business opportunities between
  our members. We exist for benefit of the members. We’re run by the 
 members, and owned by no one. We exist solely to help our members gain
  more business.\n\nFor more information visit https://networkinginsurr
 ey.co.uk/events/free-nsba-open-evening
DTSTART;TZID=Europe/London:20110406T180000
DTEND;TZID=Europe/London:20110406T193000
CATEGORIES:social, chertsey, free, evening
LOCATION:Crown Hotel KT16 8AP
WEBSITE:http://eventbrite.com/event/1458972827
URL:http://eventbrite.com/event/1458972827
CONTACT:
ORGANIZER;CN="Jake Liddell":https://networkinginsurrey.co.uk/profile/J
 akeLiddell
ATTACH;FMTTYPE="image/jpeg":http://storage.ning.com/topology/rest/1.0/
 file/get/2470848672?profile=original
ATTENDEE;ROLE=REQ-PARTICIPANT;PARTSTAT=ACCEPTED;RSVP=TRUE;CN="Keith Gr
 over, NiS Founder":https://networkinginsurrey.co.uk/profile/KeithGrove
 r
ATTENDEE;ROLE=REQ-PARTICIPANT;PARTSTAT=ACCEPTED;RSVP=TRUE;CN="Jake Lid
 dell":https://networkinginsurrey.co.uk/profile/JakeLiddell
ATTENDEE;ROLE=REQ-PARTICIPANT;PARTSTAT=ACCEPTED;RSVP=TRUE;CN="Deepa Ve
 neik":https://networkinginsurrey.co.uk/profile/DeepaVeneik
ATTENDEE;ROLE=REQ-PARTICIPANT;PARTSTAT=ACCEPTED;RSVP=TRUE;CN="David En
 dersby":https://networkinginsurrey.co.uk/profile/DavidEndersby
ATTENDEE;ROLE=REQ-PARTICIPANT;PARTSTAT=ACCEPTED;RSVP=TRUE;CN="Adrian B
 ohanna":https://networkinginsurrey.co.uk/profile/AdrianBohanna
ATTENDEE;ROLE=REQ-PARTICIPANT;PARTSTAT=TENTATIVE;RSVP=TRUE;CN="Alan Si
 mpson":https://networkinginsurrey.co.uk/profile/AlanSimpson
ATTENDEE;ROLE=REQ-PARTICIPANT;PARTSTAT=TENTATIVE;RSVP=TRUE;CN="Julia M
 etcalfe":https://networkinginsurrey.co.uk/profile/JuliaMetcalfe
END:VEVENT
END:VCALENDAR
