BEGIN:VCALENDAR
PRODID:NingEventWidget-v1
VERSION:2.0
METHOD:PUBLISH
BEGIN:VTIMEZONE
TZID:Europe/London
X-LIC-LOCATION:Europe/London
BEGIN:DAYLIGHT
TZOFFSETFROM:+0000
TZOFFSETTO:+0100
TZNAME:BST
DTSTART:19700329T010000
RRULE:FREQ=YEARLY;BYMONTH=3;BYDAY=-1SU
END:DAYLIGHT
BEGIN:STANDARD
TZOFFSETFROM:+0100
TZOFFSETTO:+0000
TZNAME:GMT
DTSTART:19701025T020000
RRULE:FREQ=YEARLY;BYMONTH=10;BYDAY=-1SU
END:STANDARD
END:VTIMEZONE
BEGIN:VEVENT
UID:4626108:Event:1152
DTSTAMP:20260426T021821Z
SUMMARY:FREE NLP Intro Evening, Weybridge
DESCRIPTION:FREE TRAINING - An Introduction to the Power of NLP\n\nCom
 e along to this insightful evening of discovery and find out what NLP 
 can do for YOU. This evening is lead by certified NLP Trainers from Mi
 nd Training Systems - World Leaders in NLP. Our intention is to show y
 ou how to use NLP to assist you to transform 2010 into the best year e
 ver! NLP has a solid history of results that goes back to 1975. It has
  been proven and used successfully with businesspeople, performers, at
 hletes, politicians, financial tycoons and coaches round the world.\n 
 NLP techniques are very powerful and put simply, they work! You may wa
 nt to know about NLP for personal development, and you will find that 
 by applying the techniques to your own life, your career, personal lif
 e, relationships, personal happiness, performance and effectiveness wi
 ll become significantly improved and better balanced.\n\nBOOK HERE:Pla
 ces are limited, so to avoid disappointment please give us a call at t
 he Office now on 01932 350 939 to book your place.\nMAP\nVENUE\n------
 ----------------------\nMind Training Systems Limited is a training co
 mpany run by NiS Member Catherine Jackson, delivering powerful, high q
 uality training which incorporates cutting edge technologies in accele
 rated change and advanced human communications Our students feedback i
 s that attending any of our seminars or trainings is the most profound
  experience that you may ever have. Whether your interest is in busine
 ss, education, coaching, sport or personal growth, we can assist you t
 o dramatically improve your abilities and outcomes. Helping you to unl
 ock your fullest potential and empower you completely.\nWe also design
  and deliver high quality personal coaching and business coaching and 
 solutions specifically tailored to your needs.\n\nFor more information
  visit https://networkinginsurrey.co.uk/events/free-nlp-intro-evening
DTSTART;TZID=Europe/London:20100326T180000
DTEND;TZID=Europe/London:20100326T210000
CATEGORIES:free, training, seminar, weybridge
LOCATION:The Ship Hotel, Weybridge KT13 8BQ
WEBSITE:http://www.mindtrainingsystems.co.uk
URL:http://www.mindtrainingsystems.co.uk
CONTACT:01932 350 939
ORGANIZER:Catherine Jackson
ATTACH;FMTTYPE="image/jpeg":http://storage.ning.com/topology/rest/1.0/
 file/get/2591377786?profile=original
ATTENDEE;ROLE=REQ-PARTICIPANT;PARTSTAT=TENTATIVE;RSVP=TRUE;CN="Keith G
 rover, NiS Founder":https://networkinginsurrey.co.uk/profile/KeithGrov
 er
END:VEVENT
END:VCALENDAR
