BEGIN:VCALENDAR
PRODID:NingEventWidget-v1
VERSION:2.0
METHOD:PUBLISH
BEGIN:VTIMEZONE
TZID:Europe/London
X-LIC-LOCATION:Europe/London
BEGIN:DAYLIGHT
TZOFFSETFROM:+0000
TZOFFSETTO:+0100
TZNAME:BST
DTSTART:19700329T010000
RRULE:FREQ=YEARLY;BYMONTH=3;BYDAY=-1SU
END:DAYLIGHT
BEGIN:STANDARD
TZOFFSETFROM:+0100
TZOFFSETTO:+0000
TZNAME:GMT
DTSTART:19701025T020000
RRULE:FREQ=YEARLY;BYMONTH=10;BYDAY=-1SU
END:STANDARD
END:VTIMEZONE
BEGIN:VEVENT
UID:4626108:Event:42561
DTSTAMP:20260422T092548Z
SUMMARY:FREE NiS+ Boardroom Brainstorm Morning, Cobham
DESCRIPTION:Boardroom Brainstorm Networking at Silvermere\n\nCome and 
 experience a Boardroom Brainstorm networking session with Networking i
 n Surrey's Networker plus! group...\nIn this session we will start wi
 th a short informal networking session - buy your own lovely tea or co
 ffee at the bar.\nNon-Members of NiS+ are welcome to attend one Boardr
 oom Brainstorm to experience the buzz!\nIn the Boardroom session, we w
 ill work on each other's businesses by brainstorming  solutions to bu
 siness challenges. If you have a specific issue about any aspect of yo
 ur business, the group will come up with suggestions and ideas that wi
 ll give you a new perspective.\nNot only will you come away with new i
 deas to apply in your own business. The process of brainstorming the i
 ssues raised will develop your own 'business brainpower'!\nCOST: FREE 
 to attend - but booking is essential please.\nBOOKING: Please CLICK HE
 RE NOW to claim your free place\nMAP\nPlenty of free parking availabl
 e\nPS Here's the email I sent out to attendees:\nWe will be introducin
 g ourselves and then brainstorming each others' business issues to com
 e up with helpful solutions, suggestions and unbiased feedback.  We'l
 l be broadly following Edward de Bono's 'Thinking Hats' process, with 
 a sprinkling of Ecademy's boardroom rules - more about that tomorrow! 
  Please have a few thoughts about a business challenge or opportunity 
 which you are facing at the moment which you'd like us to 'brainstorm'
  with you. If you haven't got one, that could perhaps be an issue in i
 tself!  I'm currently looking into an online meeting application we ma
 y be able to use to have 'virtual' meetings, in addition to our regula
 r 'real-world' meetings. Again,  like every aspect of NiS+. these wil
 l be totally optional - it's a pick'n'mix product!  I'm also going to 
 record some screencast tutorials showing you how to enhance your My Pa
 ge profile to make it more effective.  Exciting times! \n\n\nFor more
  information visit https://networkinginsurrey.co.uk/events/free-nis-bo
 ardroom-brainstorm-morning-cobham
DTSTART;TZID=Europe/London:20120419T100000
DTEND;TZID=Europe/London:20120419T120000
CATEGORIES:boardroom, cobham, morning, free
LOCATION:The Inn on the Lake, Silvermere Golf Club KT11 1EF
WEBSITE:
URL:
CONTACT:01932 845814
ORGANIZER;CN="Keith Grover, NiS Founder":https://networkinginsurrey.co
 .uk/profile/KeithGrover
ATTACH;FMTTYPE="image/jpeg":http://storage.ning.com/topology/rest/1.0/
 file/get/2309019559?profile=original
ATTENDEE;ROLE=REQ-PARTICIPANT;PARTSTAT=ACCEPTED;RSVP=TRUE;CN="Simon Di
 ckens":https://networkinginsurrey.co.uk/profile/simondickens
ATTENDEE;ROLE=REQ-PARTICIPANT;PARTSTAT=ACCEPTED;RSVP=TRUE;CN="Keith Gr
 over, NiS Founder":https://networkinginsurrey.co.uk/profile/KeithGrove
 r
ATTENDEE;ROLE=REQ-PARTICIPANT;PARTSTAT=ACCEPTED;RSVP=TRUE;CN="Stuart R
 itchie":https://networkinginsurrey.co.uk/profile/StuartRitchie
ATTENDEE;ROLE=REQ-PARTICIPANT;PARTSTAT=ACCEPTED;RSVP=TRUE;CN="Alan Rog
 ers":https://networkinginsurrey.co.uk/profile/DreamGeniusLtd
END:VEVENT
END:VCALENDAR
