BEGIN:VCALENDAR
PRODID:NingEventWidget-v1
VERSION:2.0
METHOD:PUBLISH
BEGIN:VTIMEZONE
TZID:Europe/London
X-LIC-LOCATION:Europe/London
BEGIN:DAYLIGHT
TZOFFSETFROM:+0000
TZOFFSETTO:+0100
TZNAME:BST
DTSTART:19700329T010000
RRULE:FREQ=YEARLY;BYMONTH=3;BYDAY=-1SU
END:DAYLIGHT
BEGIN:STANDARD
TZOFFSETFROM:+0100
TZOFFSETTO:+0000
TZNAME:GMT
DTSTART:19701025T020000
RRULE:FREQ=YEARLY;BYMONTH=10;BYDAY=-1SU
END:STANDARD
END:VTIMEZONE
BEGIN:VEVENT
UID:4626108:Event:47483
DTSTAMP:20260425T203038Z
SUMMARY:FREE NiS+ Boardroom Brainstorm Morning, Cobham
DESCRIPTION:Boardroom Brainstorm Networking at Silvermere\nCome and ex
 perience a Boardroom Brainstorm networking session with Networking in 
 Surrey's Networker plus! group... We start with a short informal net
 working session - buy your own tea or coffee at the bar (£2.50 for 'b
 ottomless' tea and coffee).  . Non-Members of NiS+ are welcome to att
 end one Boardroom Brainstorm to experience the buzz! In the Boardroom 
 session, we will work on developing each other's businesses by brainst
 orming  solutions to business challenges. If you have a specific issu
 e about any aspect of your business, the group will come up with sugge
 stions and ideas that will give you a new perspective.\n[The Chatham H
 ouse Rule on confidentiality  applies] Not only will you come away w
 ith new ideas to apply in your own business. The process of brainstorm
 ing the issues raised will develop your own 'business brainpower'! COS
 T: FREE to attend - but booking is essential please. BOOKING: Please 
 CLICK HERE NOW to claim your free place MAP Plenty of free parking av
 ailable\nAGENDA:\nWe will be introducing ourselves and then brainstorm
 ing each others' business issues to come up with helpful solutions, su
 ggestions and unbiased feedback.  We'll be broadly following Edward d
 e Bono's 'Thinking Hats' process, with a sprinkling of Ecademy's board
 room rules. Please have a few thoughts about a business challenge or o
 pportunity which you are facing at the moment which you'd like us to '
 brainstorm' with you. If you haven't got one, that could perhaps be an
  issue in itself..!\n\nFor more information visit https://networkingin
 surrey.co.uk/events/free-nis-boardroom-brainstorm-morning-cobham-4
DTSTART;TZID=Europe/London:20120911T100000
DTEND;TZID=Europe/London:20120911T120000
CATEGORIES:boardroom, cobham, morning, free
LOCATION:The Inn on the Lake, Silvermere Golf Club KT11 1EF
WEBSITE:http://www.networkinginsurrey.co.uk/page/nis-membership-upgrad
 e
URL:http://www.networkinginsurrey.co.uk/page/nis-membership-upgrade
CONTACT:01932 845814
ORGANIZER;CN="Keith Grover, NiS Founder":https://networkinginsurrey.co
 .uk/profile/KeithGrover
ATTACH;FMTTYPE="image/jpeg":http://storage.ning.com/topology/rest/1.0/
 file/get/2309019559?profile=original
ATTENDEE;ROLE=REQ-PARTICIPANT;PARTSTAT=ACCEPTED;RSVP=TRUE;CN="Stuart R
 itchie":https://networkinginsurrey.co.uk/profile/StuartRitchie
ATTENDEE;ROLE=REQ-PARTICIPANT;PARTSTAT=ACCEPTED;RSVP=TRUE;CN="Ben Hawk
 shaw-Burn":https://networkinginsurrey.co.uk/profile/BenHawkshawBurn
ATTENDEE;ROLE=REQ-PARTICIPANT;PARTSTAT=ACCEPTED;RSVP=TRUE;CN="Keith Gr
 over, NiS Founder":https://networkinginsurrey.co.uk/profile/KeithGrove
 r
END:VEVENT
END:VCALENDAR
