BEGIN:VCALENDAR
PRODID:NingEventWidget-v1
VERSION:2.0
METHOD:PUBLISH
BEGIN:VTIMEZONE
TZID:Europe/London
X-LIC-LOCATION:Europe/London
BEGIN:DAYLIGHT
TZOFFSETFROM:+0000
TZOFFSETTO:+0100
TZNAME:BST
DTSTART:19700329T010000
RRULE:FREQ=YEARLY;BYMONTH=3;BYDAY=-1SU
END:DAYLIGHT
BEGIN:STANDARD
TZOFFSETFROM:+0100
TZOFFSETTO:+0000
TZNAME:GMT
DTSTART:19701025T020000
RRULE:FREQ=YEARLY;BYMONTH=10;BYDAY=-1SU
END:STANDARD
END:VTIMEZONE
BEGIN:VEVENT
UID:4626108:Event:86768
DTSTAMP:20260424T045812Z
SUMMARY:FREE Networking Mummies Morning, Redhill
DESCRIPTION:FREE Business Networking Morning at The Junction, Redhill\
 nPlease come along to a FREE business networking event, where there wi
 ll be an opportunity to introduce your business, followed by plenty of
  time to chat and network freely. We will also be showcasing three of 
 our members businesses in more detail: Wendy Ager of Get Better Coachi
 ng will be demonstrating Hootsuite to make scheduling your social medi
 a updates so much easier, Sam Coleman will be showcasing her Forever A
 loe Vera based products and Lisa Kingaby will be tempting us with some
  My Secret Kitchen goodies!\n This will be a friendly, informal meetin
 g and children are very welcome. Colouring will be provided to keep th
 e little ones entertained.  Please note the venue does not currently 
 have baby changing facilities\nCOST: FREE to attend, buy your own drin
 ks and snacks\nBOOKING: No need to book - please just turn up and joi
 n us on the day!\nMAP\n----------------------------------\nNetworking 
 Mummies UK Ltd has branches popping up all across the UK, connecting f
 amilies in business with FREE networking events and affordable worksho
 ps and other events giving mums and dads in business the ability to co
 nnect face to face and online.\n\nFor more information visit https://n
 etworkinginsurrey.co.uk/events/free-networking-mummies-morning-redhill
 -2
DTSTART;TZID=Europe/London:20170315T110000
DTEND;TZID=Europe/London:20170315T130000
CATEGORIES:free, networking, and, showcase
LOCATION:The Junction, RH1 1RD
WEBSITE:http://www.thejunctionredhill.co.uk/
URL:http://www.thejunctionredhill.co.uk/
CONTACT:07958291803
ORGANIZER;CN="Eleanor Richardson":https://networkinginsurrey.co.uk/pro
 file/EleanorRichardson
ATTACH;FMTTYPE="image/jpeg":http://storage.ning.com/topology/rest/1.0/
 file/get/2591460263?profile=original
ATTENDEE;ROLE=REQ-PARTICIPANT;PARTSTAT=ACCEPTED;RSVP=TRUE;CN="Eleanor 
 Richardson":https://networkinginsurrey.co.uk/profile/EleanorRichardson
END:VEVENT
END:VCALENDAR
