BEGIN:VCALENDAR
PRODID:NingEventWidget-v1
VERSION:2.0
METHOD:PUBLISH
BEGIN:VTIMEZONE
TZID:Europe/London
X-LIC-LOCATION:Europe/London
BEGIN:DAYLIGHT
TZOFFSETFROM:+0000
TZOFFSETTO:+0100
TZNAME:BST
DTSTART:19700329T010000
RRULE:FREQ=YEARLY;BYMONTH=3;BYDAY=-1SU
END:DAYLIGHT
BEGIN:STANDARD
TZOFFSETFROM:+0100
TZOFFSETTO:+0000
TZNAME:GMT
DTSTART:19701025T020000
RRULE:FREQ=YEARLY;BYMONTH=10;BYDAY=-1SU
END:STANDARD
END:VTIMEZONE
BEGIN:VEVENT
UID:4626108:Event:86423
DTSTAMP:20260424T063102Z
SUMMARY:FREE Networking Mummies Morning, Redhill
DESCRIPTION:FREE Business Networking Morning at The Junction, Redhill\
 nPlease come along to a FREE business networking event, where there wi
 ll be an opportunity to introduce your business, followed by plenty of
  time to chat and network freely. \nThis will be a friendly, informal
  meeting and children are very welcome. Colouring will be provided to 
 keep the little ones entertained.  Please note the venue does not cur
 rently have baby changing facilities\nCOST: FREE to attend, buy your o
 wn drinks and snacks\nBOOKING: No need to book - please just turn up 
 and join us on the day!\nMAP\n----------------------------------\nNetw
 orking Mummies UK Ltd has branches popping up all across the UK, conne
 cting families in business with FREE networking events and affordable 
 workshops and other events giving mums and dads in business the abilit
 y to connect face to face and online.\n\nFor more information visit ht
 tps://networkinginsurrey.co.uk/events/free-networking-mummies-morning-
 redhill-1
DTSTART;TZID=Europe/London:20170215T110000
DTEND;TZID=Europe/London:20170215T130000
CATEGORIES:free, networking
LOCATION:The Junction, RH1 1RD
WEBSITE:http://www.thejunctionredhill.co.uk/
URL:http://www.thejunctionredhill.co.uk/
CONTACT:07958291803
ORGANIZER;CN="Eleanor Richardson":https://networkinginsurrey.co.uk/pro
 file/EleanorRichardson
ATTACH;FMTTYPE="image/jpeg":http://storage.ning.com/topology/rest/1.0/
 file/get/2591460263?profile=original
ATTENDEE;ROLE=REQ-PARTICIPANT;PARTSTAT=ACCEPTED;RSVP=TRUE;CN="Eleanor 
 Richardson":https://networkinginsurrey.co.uk/profile/EleanorRichardson
END:VEVENT
END:VCALENDAR
