BEGIN:VCALENDAR
PRODID:NingEventWidget-v1
VERSION:2.0
METHOD:PUBLISH
BEGIN:VTIMEZONE
TZID:Europe/London
X-LIC-LOCATION:Europe/London
BEGIN:DAYLIGHT
TZOFFSETFROM:+0000
TZOFFSETTO:+0100
TZNAME:BST
DTSTART:19700329T010000
RRULE:FREQ=YEARLY;BYMONTH=3;BYDAY=-1SU
END:DAYLIGHT
BEGIN:STANDARD
TZOFFSETFROM:+0100
TZOFFSETTO:+0000
TZNAME:GMT
DTSTART:19701025T020000
RRULE:FREQ=YEARLY;BYMONTH=10;BYDAY=-1SU
END:STANDARD
END:VTIMEZONE
BEGIN:VEVENT
UID:4626108:Event:19919
DTSTAMP:20260423T175144Z
SUMMARY:FREE Networking Breakfast, Sutton
DESCRIPTION:To register please send your details to admin@businesoverb
 reakfast.co.uk\nInclude: Name, Comapny, Email, Web, Business type.\nWe
  look forward to meeting you on Thursday 2nd June.\nBring lots of busi
 ness cards and your 60 second elevator pitch.\n \n\nFor more informat
 ion visit https://networkinginsurrey.co.uk/events/free-networking-brea
 kfast
DTSTART;TZID=Europe/London:20110602T070000
DTEND;TZID=Europe/London:20110602T090000
CATEGORIES:business_over_breakfast_sutton, breakfast, free
LOCATION:The Holiday Inn Sutton
WEBSITE:http://www.businessoverbreakfast.co.uk
URL:http://www.businessoverbreakfast.co.uk
CONTACT:
ORGANIZER;CN="Paul Cawthorne":https://networkinginsurrey.co.uk/profile
 /PaulCawthorne
ATTACH;FMTTYPE="image/jpeg":http://storage.ning.com/topology/rest/1.0/
 file/get/2591393477?profile=original
ATTENDEE;ROLE=REQ-PARTICIPANT;PARTSTAT=ACCEPTED;RSVP=TRUE;CN="Paul Caw
 thorne":https://networkinginsurrey.co.uk/profile/PaulCawthorne
END:VEVENT
END:VCALENDAR
