BEGIN:VCALENDAR
PRODID:NingEventWidget-v1
VERSION:2.0
METHOD:PUBLISH
BEGIN:VTIMEZONE
TZID:Europe/London
X-LIC-LOCATION:Europe/London
BEGIN:DAYLIGHT
TZOFFSETFROM:+0000
TZOFFSETTO:+0100
TZNAME:BST
DTSTART:19700329T010000
RRULE:FREQ=YEARLY;BYMONTH=3;BYDAY=-1SU
END:DAYLIGHT
BEGIN:STANDARD
TZOFFSETFROM:+0100
TZOFFSETTO:+0000
TZNAME:GMT
DTSTART:19701025T020000
RRULE:FREQ=YEARLY;BYMONTH=10;BYDAY=-1SU
END:STANDARD
END:VTIMEZONE
BEGIN:VEVENT
UID:4626108:Event:11932
DTSTAMP:20260422T103815Z
SUMMARY:FREE Morning Horsley Hike, West Horsley
DESCRIPTION:Free Netwalk around Horsley\n\nCome and join us for a free
  Networking walk through the lovely countryside around Horsley villa
 ge. Enjoy fresh air and gentle exercise while getting to know fellow 
 local business owners from the Horsley Network.\nIt's an easy one-hour
  walk, not a hike! Informal, comfortable clothing and sensible walking
  shoes and a cheerful smile are all you will need...\nMAP\n___________
 ___________________\nOur Horsley Network events are held once a month
  at the King William IV in West Horsley. The evening will kick off at 
 8pm with informal networking, announcements and introductions (don’t
  worry – there’s no scary 60 second style promos in this group!) a
 t 8.30 and the speaker will talk for about 30-40 minutes.\nEvery month
  we’ll select a speaker based on your feedback about what you’re l
 ooking for.\n\nFor more information visit https://networkinginsurrey.c
 o.uk/events/free-morning-horsley-hike-west
DTSTART;TZID=Europe/London:20110506T090000
DTEND;TZID=Europe/London:20110506T101500
CATEGORIES:ree, netwalk
LOCATION:King William IV pub KT24 6BG
WEBSITE:
URL:
CONTACT:
ORGANIZER;CN="Claire Brown":https://networkinginsurrey.co.uk/profile/C
 laireBrown
ATTACH;FMTTYPE="image/jpeg":http://storage.ning.com/topology/rest/1.0/
 file/get/2591389335?profile=original
ATTENDEE;ROLE=REQ-PARTICIPANT;PARTSTAT=ACCEPTED;RSVP=TRUE;CN="Claire B
 rown":https://networkinginsurrey.co.uk/profile/ClaireBrown
END:VEVENT
END:VCALENDAR
