BEGIN:VCALENDAR
PRODID:NingEventWidget-v1
VERSION:2.0
METHOD:PUBLISH
BEGIN:VTIMEZONE
TZID:Europe/London
X-LIC-LOCATION:Europe/London
BEGIN:DAYLIGHT
TZOFFSETFROM:+0000
TZOFFSETTO:+0100
TZNAME:BST
DTSTART:19700329T010000
RRULE:FREQ=YEARLY;BYMONTH=3;BYDAY=-1SU
END:DAYLIGHT
BEGIN:STANDARD
TZOFFSETFROM:+0100
TZOFFSETTO:+0000
TZNAME:GMT
DTSTART:19701025T020000
RRULE:FREQ=YEARLY;BYMONTH=10;BYDAY=-1SU
END:STANDARD
END:VTIMEZONE
BEGIN:VEVENT
UID:4626108:Event:3217
DTSTAMP:20260425T133140Z
SUMMARY:FREE Member Promo Presentation & Networking
DESCRIPTION:Free Presentation & Networking Evening\n\nAn open invitati
 on to find out what the Utility Warehouse Discount Club is about & has
  to offer, whether you're a business owner, an employee, self employed
 , retired, a fundraiser for a club,organisation or charity, or current
 ly in between roles.\nBring plenty of business cards as there will be 
 diverse businesses attending for you to meet and connect with, in a re
 laxed atmosphere with a light hearted yet upbeat approach.\nBOOK HERE:
  As seating may be limited, please RSVP to oink@telecomplus.org.uk\nMA
 P\nVENUE\nThis event has been posted by NiS Member Melinda Williams - 
 please contact Melinda on 07985 913670 for more information.\n\nFor mo
 re information visit https://networkinginsurrey.co.uk/events/free-memb
 er-promo-presentation
DTSTART;TZID=Europe/London:20100804T200000
DTEND;TZID=Europe/London:20100804T210000
CATEGORIES:promotion, free, business_networking_surrey, evening
LOCATION:Silvermere Golf Course, Weybridge KT11 1EF
WEBSITE:
URL:
CONTACT:07985 913670
ORGANIZER:Gail Bannister & Melinda Williams
ATTACH;FMTTYPE="image/jpeg":http://storage.ning.com/topology/rest/1.0/
 file/get/2591384956?profile=original
ATTENDEE;ROLE=REQ-PARTICIPANT;PARTSTAT=TENTATIVE;RSVP=TRUE;CN="Keith G
 rover, NiS Founder":https://networkinginsurrey.co.uk/profile/KeithGrov
 er
END:VEVENT
END:VCALENDAR
