BEGIN:VCALENDAR
PRODID:NingEventWidget-v1
VERSION:2.0
METHOD:PUBLISH
BEGIN:VTIMEZONE
TZID:Europe/London
X-LIC-LOCATION:Europe/London
BEGIN:DAYLIGHT
TZOFFSETFROM:+0000
TZOFFSETTO:+0100
TZNAME:BST
DTSTART:19700329T010000
RRULE:FREQ=YEARLY;BYMONTH=3;BYDAY=-1SU
END:DAYLIGHT
BEGIN:STANDARD
TZOFFSETFROM:+0100
TZOFFSETTO:+0000
TZNAME:GMT
DTSTART:19701025T020000
RRULE:FREQ=YEARLY;BYMONTH=10;BYDAY=-1SU
END:STANDARD
END:VTIMEZONE
BEGIN:VEVENT
UID:4626108:Event:4457
DTSTAMP:20260424T115652Z
SUMMARY:FREE MEMBER PROMO: Christmas Makeover Extravaganza Afternoon, 
 Old Woking
DESCRIPTION:FREE Christmas Makeover Extravaganza\n\n\nDiscover your mo
 st glamourous look, for the festive season!This event is promoted by N
 iS Member Shirley Barton-Gunning - please call her on 01483 832307 if 
 you'd like to come along to join the fun at the picturesque Old Cottag
 e. Numbers are limited, so booking is essential!\n\nMAP\n\nFor more in
 formation visit https://networkinginsurrey.co.uk/events/free-member-pr
 omo-christmas
DTSTART;TZID=Europe/London:20101112T130000
DTEND;TZID=Europe/London:20101112T170000
CATEGORIES:free, member_promotion, afternoon, old_woking
LOCATION:The Old Cottage
WEBSITE:http://www.shirleybg@myarbonne.co.uk
URL:http://www.shirleybg@myarbonne.co.uk
CONTACT:01483 832307
ORGANIZER:Shirley Barton-Gunning
ATTACH;FMTTYPE="image/jpeg":http://storage.ning.com/topology/rest/1.0/
 file/get/2591386769?profile=original
ATTENDEE;ROLE=REQ-PARTICIPANT;PARTSTAT=ACCEPTED;RSVP=TRUE;CN="Rosemary
  Hemmett":https://networkinginsurrey.co.uk/profile/RosemaryHemmett
END:VEVENT
END:VCALENDAR
