BEGIN:VCALENDAR
PRODID:NingEventWidget-v1
VERSION:2.0
METHOD:PUBLISH
BEGIN:VTIMEZONE
TZID:Europe/London
X-LIC-LOCATION:Europe/London
BEGIN:DAYLIGHT
TZOFFSETFROM:+0000
TZOFFSETTO:+0100
TZNAME:BST
DTSTART:19700329T010000
RRULE:FREQ=YEARLY;BYMONTH=3;BYDAY=-1SU
END:DAYLIGHT
BEGIN:STANDARD
TZOFFSETFROM:+0100
TZOFFSETTO:+0000
TZNAME:GMT
DTSTART:19701025T020000
RRULE:FREQ=YEARLY;BYMONTH=10;BYDAY=-1SU
END:STANDARD
END:VTIMEZONE
BEGIN:VEVENT
UID:4626108:Event:2521
DTSTAMP:20260425T212649Z
SUMMARY:FREE ‘Meet The Venues’ Surrey Chambers Afternoon
DESCRIPTION:\n‘Meet The Venues’ at Denbies Wine Estate\nCome along
  to a Networking Reception event and meet new potential customers and 
 clients or renew existing ones while enjoying drinks and refreshments 
 and check out the best Surrey has to offer in venues at our Surrey Mee
 t the Venues event.\nSurrey Chambers are currently organising an innov
 ative event at Denbies Wine Estate to showcase all the top venues in a
 nd around Surrey. The idea is to present all the local venues under on
 e roof so that companies and individuals can come along to see what Su
 rrey has to offer for corporate and private functions. With over 30 ve
 nues represented, the visitors will be able to get a really good idea 
 of the location which would suit a meeting or event they are planning.
  We are planning a strong marketing campaign for this event, so don’
 t miss the chance of getting involved in this exciting new concept! If
  you would like to attend this event as a delegate, the event is free,
  but please register for catering reasons\nPlease note that bookings c
 an be made up to the day of the event, however those made within three
  days of the event may not be included in the delegate list.\nCOST: En
 trance is free for Chamber Members and non-Members alike, but you must
  book to attend.\nBOOK HERE When you book this FREE event online the s
 ystem will ask you to choose a payment method. Please select Cheque/BA
 CS payment so your booking can be processed. No payment is needed.\nMA
 P\nDIRECTIONS\n\nFor more information visit https://networkinginsurrey
 .co.uk/events/free-meet-the-venues-surrey
DTSTART;TZID=Europe/London:20100610T160000
DTEND;TZID=Europe/London:20100610T190000
CATEGORIES:aftenoon, free, dorking, business_networking
LOCATION:Denbies Wine Estate, Dorking RH5 6AA
WEBSITE:http://www.surrey-chambers.co.uk/catalog/product_info.php?cPat
 h=21&products_id=231&osCsid=bpetlb5mj6sl757tjco9uqf5s1
URL:http://www.surrey-chambers.co.uk/catalog/product_info.php?cPath=21
 &products_id=231&osCsid=bpetlb5mj6sl757tjco9uqf5s1
CONTACT:
ORGANIZER:Richard Guillaume, Surrey Chambers
ATTACH;FMTTYPE="image/jpeg":http://storage.ning.com/topology/rest/1.0/
 file/get/2591374591?profile=original
ATTENDEE;ROLE=REQ-PARTICIPANT;PARTSTAT=ACCEPTED;RSVP=TRUE;CN="Michael 
 Harlow":https://networkinginsurrey.co.uk/profile/MichaelHarlow
ATTENDEE;ROLE=REQ-PARTICIPANT;PARTSTAT=ACCEPTED;RSVP=TRUE;CN="Sarah Ma
 rtin":https://networkinginsurrey.co.uk/profile/SarahMartin
ATTENDEE;ROLE=REQ-PARTICIPANT;PARTSTAT=ACCEPTED;RSVP=TRUE;CN="Brian Me
 dlicott":https://networkinginsurrey.co.uk/profile/BrianMedlicott
ATTENDEE;ROLE=REQ-PARTICIPANT;PARTSTAT=ACCEPTED;RSVP=TRUE;CN="Keith Gr
 over, NiS Founder":https://networkinginsurrey.co.uk/profile/KeithGrove
 r
END:VEVENT
END:VCALENDAR
