BEGIN:VCALENDAR
PRODID:NingEventWidget-v1
VERSION:2.0
METHOD:PUBLISH
BEGIN:VTIMEZONE
TZID:Europe/London
X-LIC-LOCATION:Europe/London
BEGIN:DAYLIGHT
TZOFFSETFROM:+0000
TZOFFSETTO:+0100
TZNAME:BST
DTSTART:19700329T010000
RRULE:FREQ=YEARLY;BYMONTH=3;BYDAY=-1SU
END:DAYLIGHT
BEGIN:STANDARD
TZOFFSETFROM:+0100
TZOFFSETTO:+0000
TZNAME:GMT
DTSTART:19701025T020000
RRULE:FREQ=YEARLY;BYMONTH=10;BYDAY=-1SU
END:STANDARD
END:VTIMEZONE
BEGIN:VEVENT
UID:4626108:Event:3700
DTSTAMP:20260425T174049Z
SUMMARY:FREE Meet the Marketers Evening, Guildford
DESCRIPTION:Informal Meet the Marketers Evening\n\nThis informal gathe
 ring is open to anyone practicing marketing. It's organised by Leigh H
 opwood and was posted on the Linked In Group for CIM Surrey.\nThe form
 at is very relaxed - no formal presentations, no speakers. Simply an o
 pportunity to network with other marketing professionals. There will b
 e a few of us there - we will make it obvious where the marketing 'mee
 t' is!\nCOST: Free to all. No need to register either - simply turn up
  and have a drink.\nVENUE\nMAP & DIRECTIONS(with downloadable PDFs)\n\
 nFor more information visit https://networkinginsurrey.co.uk/events/fr
 ee-meet-the-marketers
DTSTART;TZID=Europe/London:20100817T190000
DTEND;TZID=Europe/London:20100817T203000
CATEGORIES:free, informal, guildford, business_networking_surrey
LOCATION:The Mandolay Hotel, Guildford GU1 2AE
WEBSITE:
URL:
CONTACT:
ORGANIZER:Leigh Hopwood,  Cremarc
ATTACH;FMTTYPE="image/jpeg":http://storage.ning.com/topology/rest/1.0/
 file/get/2591381943?profile=original
ATTENDEE;ROLE=REQ-PARTICIPANT;PARTSTAT=ACCEPTED;RSVP=TRUE;CN="Keith Gr
 over, NiS Founder":https://networkinginsurrey.co.uk/profile/KeithGrove
 r
END:VEVENT
END:VCALENDAR
