BEGIN:VCALENDAR
PRODID:NingEventWidget-v1
VERSION:2.0
METHOD:PUBLISH
BEGIN:VTIMEZONE
TZID:Europe/London
X-LIC-LOCATION:Europe/London
BEGIN:DAYLIGHT
TZOFFSETFROM:+0000
TZOFFSETTO:+0100
TZNAME:BST
DTSTART:19700329T010000
RRULE:FREQ=YEARLY;BYMONTH=3;BYDAY=-1SU
END:DAYLIGHT
BEGIN:STANDARD
TZOFFSETFROM:+0100
TZOFFSETTO:+0000
TZNAME:GMT
DTSTART:19701025T020000
RRULE:FREQ=YEARLY;BYMONTH=10;BYDAY=-1SU
END:STANDARD
END:VTIMEZONE
BEGIN:VEVENT
UID:4626108:Event:11904
DTSTAMP:20260422T232500Z
SUMMARY:FREE Meet the Marketers Evening, Guildford
DESCRIPTION:Meet the Marketers at the Parkway\n\nDo you work in market
 ing, PR, advertising, sales or even run your own business? Maybe you'r
 e just setting foot into the marketing arena and looking to make new c
 ontacts.\nThe Surrey branch 'meet with drinks' is a networking event 
  for anyone living or working in Surrey who works directly or indirect
 ly in marketing to meet others in the industry in an informal environm
 ent to share knowledge and meet new people. \nPLEASE REGISTER HERE fo
 r this FREE event so we know you're coming along or email cimevents@ci
 m.co.uk...\nMAP small entrance turnoff to the left of The Spectrum Lei
 sure Centre entrance on the map (opposite side to Lido Road). Parking 
 is plentiful and free\n\nFor more information visit https://networking
 insurrey.co.uk/events/free-meet-the-marketers-2
DTSTART;TZID=Europe/London:20110407T190000
DTEND;TZID=Europe/London:20110407T220000
CATEGORIES:networking, drinksfree, informal, evening, guildford
LOCATION:The Bar at The Parkway, Guildford GU1 1UP
WEBSITE:http://www.premierinn.com/en/hotel/GUIPAR/guildford-central
URL:http://www.premierinn.com/en/hotel/GUIPAR/guildford-central
CONTACT:07872 337 407
ORGANIZER;CN="Lynzi Ashworth":https://networkinginsurrey.co.uk/profile
 /LynziAshworth
ATTACH;FMTTYPE="image/jpeg":http://storage.ning.com/topology/rest/1.0/
 file/get/2591391137?profile=original
ATTENDEE;ROLE=REQ-PARTICIPANT;PARTSTAT=ACCEPTED;RSVP=TRUE;CN="Lynzi As
 hworth":https://networkinginsurrey.co.uk/profile/LynziAshworth
ATTENDEE;ROLE=REQ-PARTICIPANT;PARTSTAT=TENTATIVE;RSVP=TRUE;CN="KEN SMA
 RT WILL WRITER":https://networkinginsurrey.co.uk/profile/KENSMART
END:VEVENT
END:VCALENDAR
