BEGIN:VCALENDAR
PRODID:NingEventWidget-v1
VERSION:2.0
METHOD:PUBLISH
BEGIN:VTIMEZONE
TZID:Europe/London
X-LIC-LOCATION:Europe/London
BEGIN:DAYLIGHT
TZOFFSETFROM:+0000
TZOFFSETTO:+0100
TZNAME:BST
DTSTART:19700329T010000
RRULE:FREQ=YEARLY;BYMONTH=3;BYDAY=-1SU
END:DAYLIGHT
BEGIN:STANDARD
TZOFFSETFROM:+0100
TZOFFSETTO:+0000
TZNAME:GMT
DTSTART:19701025T020000
RRULE:FREQ=YEARLY;BYMONTH=10;BYDAY=-1SU
END:STANDARD
END:VTIMEZONE
BEGIN:VEVENT
UID:4626108:Event:6359
DTSTAMP:20260422T131917Z
SUMMARY:FREE Mannatech Wellness Evening, Cobham
DESCRIPTION:Wellness Presentation at home with Steph Sullivan\nGet the
  New Year off to a Healthy start with this FREE Wellness talk...\nNiS 
 Member Steph Sullivan invites you into her home to learn about how yo
 u can naturally boost your immune system, prevent disease, boost energ
 y levels and lose a few inches!!Booking is essential - please call Ste
 ph on 01932 586949 to find out more and to book your place, or message
  Steph here on NiS..\nMAP\n\nFor more information visit https://networ
 kinginsurrey.co.uk/events/free-mannatech-wellness
DTSTART;TZID=Europe/London:20110112T193000
DTEND;TZID=Europe/London:20110112T210000
CATEGORIES:free, health, wellbeing, cobham
LOCATION:Steph's Place
WEBSITE:http://www.allaboutmannatech.com
URL:http://www.allaboutmannatech.com
CONTACT:01932 586949
ORGANIZER;CN="Steph Sullivan":https://networkinginsurrey.co.uk/profile
 /StephSullivan
ATTACH;FMTTYPE="image/jpeg":http://storage.ning.com/topology/rest/1.0/
 file/get/2591390682?profile=original
ATTENDEE;ROLE=REQ-PARTICIPANT;PARTSTAT=ACCEPTED;RSVP=TRUE;CN="Yvonne S
 tone":https://networkinginsurrey.co.uk/profile/YvonneStone
ATTENDEE;ROLE=REQ-PARTICIPANT;PARTSTAT=ACCEPTED;RSVP=TRUE;CN="Steph Su
 llivan":https://networkinginsurrey.co.uk/profile/StephSullivan
ATTENDEE;ROLE=REQ-PARTICIPANT;PARTSTAT=TENTATIVE;RSVP=TRUE;CN="Rosemar
 y Hemmett":https://networkinginsurrey.co.uk/profile/RosemaryHemmett
END:VEVENT
END:VCALENDAR
