BEGIN:VCALENDAR
PRODID:NingEventWidget-v1
VERSION:2.0
METHOD:PUBLISH
BEGIN:VTIMEZONE
TZID:Europe/London
X-LIC-LOCATION:Europe/London
BEGIN:DAYLIGHT
TZOFFSETFROM:+0000
TZOFFSETTO:+0100
TZNAME:BST
DTSTART:19700329T010000
RRULE:FREQ=YEARLY;BYMONTH=3;BYDAY=-1SU
END:DAYLIGHT
BEGIN:STANDARD
TZOFFSETFROM:+0100
TZOFFSETTO:+0000
TZNAME:GMT
DTSTART:19701025T020000
RRULE:FREQ=YEARLY;BYMONTH=10;BYDAY=-1SU
END:STANDARD
END:VTIMEZONE
BEGIN:VEVENT
UID:4626108:Event:50254
DTSTAMP:20260421T162136Z
SUMMARY:FREE Lunchtime My Team Network Pre-Launch, Cobham
DESCRIPTION:My Team Network Pre-Launch Meeting at the Fairmile\n\nMy T
 eam Network is a new networking group run by me -Â Keith Grover, creat
 or ofÂ Networking in Surrey. At this lunchtime session you can find ou
 t how it all works, and decide if you want to be part of this new conc
 ept in business networking...\n\nThis will be an informal and interact
 ive session. You can get a decent lunch here for around Â£6 - or just 
 join me with a drink as I enjoy mine!Â \n\"Thanks Keith!Â I was very p
 leased I joined the Working Lunch session with you all - I find that r
 eally beneficial, so please do let me know when you are running one ag
 ain.\"Â Kirsten Brown, Independent Consultant, Arbonne\nThere's no cha
 rge for this event, and it follows on from the free Business BiscottiÂ
  session I'm running with Geoff Chapman in the same venue from 10 am -
  12pm. Â Tessa can't make it today as she's trying to get an AC Cobra 
 into the Rotunda of the RAC in Pall Mall - and no, I hace no idea what
  that's all about either, but no doubt all will be revealed in due cou
 rse...\nYou simply won't find better-value networking anywhere else, s
 o come along, meet some useful new contacts and enjoy one or both free
  events!\nBOOKING: Please CLICK HEREÂ to book - nothing to pay, just b
 ook in or call 01932 845814 to let me know you're coming please.\nCOST
 :Â FREE to attend - just pay for your own lunch or drink Â \nMAP\nPlen
 ty of free parking available\nÂ \n\nFor more information visit https:/
 /networkinginsurrey.co.uk/events/free-lunchtime-networking-round-table
 -cobham-2
DTSTART;TZID=Europe/London:20121106T123000
DTEND;TZID=Europe/London:20121106T140000
CATEGORIES:lunchtime, free, networking_skills, cobham
LOCATION:The Fairmile & Premier Inn KT11 1BQ
WEBSITE:
URL:
CONTACT:01932 845814
ORGANIZER;CN="Keith Grover, NiS Founder":https://networkinginsurrey.co
 .uk/profile/KeithGrover
ATTACH;FMTTYPE="image/jpeg":http://storage.ning.com/topology/rest/1.0/
 file/get/2591411805?profile=original
ATTENDEE;ROLE=REQ-PARTICIPANT;PARTSTAT=ACCEPTED;RSVP=TRUE;CN="Keith Gr
 over, NiS Founder":https://networkinginsurrey.co.uk/profile/KeithGrove
 r
ATTENDEE;ROLE=REQ-PARTICIPANT;PARTSTAT=ACCEPTED;RSVP=TRUE;CN="William 
 Smith":https://networkinginsurrey.co.uk/profile/WillaimSmith
ATTENDEE;ROLE=REQ-PARTICIPANT;PARTSTAT=ACCEPTED;RSVP=TRUE;CN="Lord Ham
 ilton of Glencoe":https://networkinginsurrey.co.uk/profile/BrianIanHam
 ilton
END:VEVENT
END:VCALENDAR
