BEGIN:VCALENDAR
PRODID:NingEventWidget-v1
VERSION:2.0
METHOD:PUBLISH
BEGIN:VTIMEZONE
TZID:Europe/London
X-LIC-LOCATION:Europe/London
BEGIN:DAYLIGHT
TZOFFSETFROM:+0000
TZOFFSETTO:+0100
TZNAME:BST
DTSTART:19700329T010000
RRULE:FREQ=YEARLY;BYMONTH=3;BYDAY=-1SU
END:DAYLIGHT
BEGIN:STANDARD
TZOFFSETFROM:+0100
TZOFFSETTO:+0000
TZNAME:GMT
DTSTART:19701025T020000
RRULE:FREQ=YEARLY;BYMONTH=10;BYDAY=-1SU
END:STANDARD
END:VTIMEZONE
BEGIN:VEVENT
UID:4626108:Event:75368
DTSTAMP:20260426T022020Z
SUMMARY:FREE Lunchtime MyTeam RoundTable, Cobham
DESCRIPTION:My Team Working Lunch at The Fairmile\n\nMy Team Network w
 as developed by Keith Grover, creator of Networking in Surrey. Find ou
 t how it all works at this informal lunchtime session.\nYou can get a 
 decent lunch for around £6 (see sample menu) - or just join me with a
  drink as I enjoy mine! \nToday's RoundTable Business Topic  (chosen
  by Member vote): 'What's in a Name? Can the names you choose  for y
 our business, products and services make a real difference to your bra
 nd's performance?'\n\n\"Thanks Keith! I was very pleased I joined the
  Working Lunch session with you all - really beneficial.\" Kirsten Br
 own, Independent Consultant, Arbonne\n\"Great meeting Keith. Look forw
 ard to the next one...\" Mark Hughes, Funky Social Media\n\"A big tha
 nk you to everyone at today’s session for making me feel so welcome.
 \" Rhona Byrne, International Reiki Master/Teacher & Spiritual Life C
 oach\n\"Really enjoyed MyTeam Network at The Fairmile - a breath of fr
 esh air from all other Networking Groups! Loved it and will attend aga
 in.\" 'Magic' Theo Theodoris Magician & Mobile Sports Massage Thera
 pist\n\"How refreshing - a networking meeting where nobody tried to se
 ll me anything!\" David Ross, Manager, Jarret & Lam Consulting\n\"I re
 ally enjoyed yesterday's meeting and would like to come again please.\
 " Louise Etson, Flourish Marketing\nCOST: FREE for MyTeam Members a
 nd MyTeam LinkedIn Group Members (non-Members' first meeting also fre
 e - please book!) Everybody buys their own lunch or drink. \nBOOKIN
 G: Please CLICK HERE to book your FREE place\n[Update as at 27/11 - 1
  place remaining. ]  When event shows SOLD OUT, please email keith@ne
 tworkinginsurrey.co.uk to go on the waiting list. 'No shows' can't 
 advance book again, but can go on the waiting list. \nMAP\nAmple free
  parking\n \n\nFor more information visit https://networkinginsurrey.
 co.uk/events/free-lunchtime-myteam-roundtable-cobham-942
DTSTART;TZID=Europe/London:20151201T123000
DTEND;TZID=Europe/London:20151201T140000
CATEGORIES:lunchtime, free, networking_skills, cobham
LOCATION:The Fairmile & Premier Inn KT11 1BW
WEBSITE:
URL:
CONTACT:01932 845814
ORGANIZER;CN="Keith Grover, NiS Founder":https://networkinginsurrey.co
 .uk/profile/KeithGrover
ATTACH;FMTTYPE="image/jpeg":http://storage.ning.com/topology/rest/1.0/
 file/get/211213495?profile=original
ATTENDEE;ROLE=REQ-PARTICIPANT;PARTSTAT=ACCEPTED;RSVP=TRUE;CN="Keith Gr
 over, NiS Founder":https://networkinginsurrey.co.uk/profile/KeithGrove
 r
ATTENDEE;ROLE=REQ-PARTICIPANT;PARTSTAT=ACCEPTED;RSVP=TRUE;CN="David Sh
 aw":https://networkinginsurrey.co.uk/profile/DavidShaw
END:VEVENT
END:VCALENDAR
