BEGIN:VCALENDAR
PRODID:NingEventWidget-v1
VERSION:2.0
METHOD:PUBLISH
BEGIN:VTIMEZONE
TZID:Europe/London
X-LIC-LOCATION:Europe/London
BEGIN:DAYLIGHT
TZOFFSETFROM:+0000
TZOFFSETTO:+0100
TZNAME:BST
DTSTART:19700329T010000
RRULE:FREQ=YEARLY;BYMONTH=3;BYDAY=-1SU
END:DAYLIGHT
BEGIN:STANDARD
TZOFFSETFROM:+0100
TZOFFSETTO:+0000
TZNAME:GMT
DTSTART:19701025T020000
RRULE:FREQ=YEARLY;BYMONTH=10;BYDAY=-1SU
END:STANDARD
END:VTIMEZONE
BEGIN:VEVENT
UID:4626108:Event:69656
DTSTAMP:20260422T000243Z
SUMMARY:FREE Lunchtime MyTeam RoundTable, Cobham
DESCRIPTION:My Team Working Lunch at The Fairmile\n\nMy Team Network w
 as developed by Keith Grover, creator of Networking in Surrey. Find ou
 t how it all works at this informal lunchtime session.\nYou can get a 
 decent lunch for around Â£6 (see sample menu) - or just join me with a
  drink as I enjoy mine! \nToday's RoundTable Business TopicÂ Â (chosen
  by Member vote): 'Open Team Forum' - attendees can put any question o
 nto the Table for discussion and comment...\n\n\"Thanks Keith!Â I was 
 very pleased I joined the Working Lunch session with you all - really 
 beneficial.\"Â Kirsten Brown, Independent Consultant, Arbonne\n\"Great
  meeting Keith. Look forward to the next one...\"Â Mark Hughes, Funky 
 Social Media\n\"Really enjoyed MyTeam Network at The Fairmile - a brea
 th of fresh air from all other Networking Groups! Loved it and will at
 tend again.\"Â 'Magic' Theo TheodorisÂ Magician &Â Mobile Sports Massa
 ge Therapist\n\"How refreshing - a networking meeting where nobody tri
 ed to sell me anything!\" David Ross, Manager, Jarret & Lam Consulting
 \nCOST:Â FREE forÂ MyTeam Members and MyTeam LinkedIn Group MembersÂ (
 non-Members' first meeting also free -Â pleaseÂ book!) Everybody buys 
 their own lunch or drink.Â \nBOOKING: Please CLICK HEREÂ to book your 
 FREE place [Update 29 Nov - two places remaining, Â waitlist when full
 ...We are always over-subscribed - hooray! 'No shows' can't advance bo
 ok again, but can go on the waiting list.]Â \nMAP\nAmple free parking\
 nFINDING THE VENUE: Bizarrely, the Post Office, Eventbrite, Google Map
 s and Chef & Brewer between them can't agree on the postcode and map l
 ocation! Â Please use KT11 1BW as the postcode for Google Maps to loca
 te the FairmileÂ between Esher and Cobham on the A307 Portsmouth RoadÂ
  \nÂ \n\nFor more information visit https://networkinginsurrey.co.uk/e
 vents/free-lunchtime-myteam-roundtable-cobham-931
DTSTART;TZID=Europe/London:20141202T123000
DTEND;TZID=Europe/London:20141202T140000
CATEGORIES:lunchtime, free, networking_skills, cobham
LOCATION:The Fairmile & Premier Inn KT11 1BQ
WEBSITE:
URL:
CONTACT:01932 845814
ORGANIZER;CN="Keith Grover, NiS Founder":https://networkinginsurrey.co
 .uk/profile/KeithGrover
ATTACH;FMTTYPE="image/jpeg":http://storage.ning.com/topology/rest/1.0/
 file/get/211213495?profile=original
ATTENDEE;ROLE=REQ-PARTICIPANT;PARTSTAT=ACCEPTED;RSVP=TRUE;CN="Mette Th
 eilmann":https://networkinginsurrey.co.uk/profile/MetteTheilmann
ATTENDEE;ROLE=REQ-PARTICIPANT;PARTSTAT=ACCEPTED;RSVP=TRUE;CN="Keith Gr
 over, NiS Founder":https://networkinginsurrey.co.uk/profile/KeithGrove
 r
END:VEVENT
END:VCALENDAR
