BEGIN:VCALENDAR
PRODID:NingEventWidget-v1
VERSION:2.0
METHOD:PUBLISH
BEGIN:VTIMEZONE
TZID:Europe/London
X-LIC-LOCATION:Europe/London
BEGIN:DAYLIGHT
TZOFFSETFROM:+0000
TZOFFSETTO:+0100
TZNAME:BST
DTSTART:19700329T010000
RRULE:FREQ=YEARLY;BYMONTH=3;BYDAY=-1SU
END:DAYLIGHT
BEGIN:STANDARD
TZOFFSETFROM:+0100
TZOFFSETTO:+0000
TZNAME:GMT
DTSTART:19701025T020000
RRULE:FREQ=YEARLY;BYMONTH=10;BYDAY=-1SU
END:STANDARD
END:VTIMEZONE
BEGIN:VEVENT
UID:4626108:Event:68158
DTSTAMP:20260421T192149Z
SUMMARY:FREE Lunchtime MyTeam RoundTable, Cobham
DESCRIPTION:My Team Working Lunch at The Fairmile\n\nMy Team Network w
 as developed by Keith Grover, creator of Networking in Surrey. Find ou
 t how it all works at this informal lunchtime session.\nYou can get a 
 decent lunch for around £6 (see sample menu) - or just join me with a
  drink as I enjoy mine!\nToday's RoundTable Business Topic(chosen by M
 ember vote): 'MyTeam Boardroom Brainstorm' - get the Team's help to so
 lve your business challenges!\n\n\"Thanks Keith!I was very pleased I j
 oined the Working Lunch session with you all - really beneficial.\" K
 irsten Brown, Independent Consultant, Arbonne\n\"Great meeting Keith. 
 Look forward to the next one...\" Mark Hughes, Funky Social Media\n\"
 Really enjoyed MyTeam Network at The Fairmile - a breath of fresh air 
 from all other Networking Groups! Loved it and will attend again.\" '
 Magic' Theo Theodoris Magician & Mobile Sports Massage Therapist\n\"
 How refreshing - a networking meeting where nobody tried to sell me an
 ything!\" David Ross, Manager, Jarret & Lam Consulting\nCOST: FREE fo
 r MyTeam Members and MyTeam LinkedIn Group Members (non-Members' fir
 st meeting also free - please book!) Everybody buys their own lunch 
 or drink. \nBOOKING: [FULLY BOOKED - please email keith@networkingi
 nsurrey.co.uk to go on the waitiing list]\nWe are always over-subscri
 bed ... hooray! 'No shows' can't advance book again, but can go on the
  waiting list. \nMAP\nAmple free parking\nFINDING THE VENUE: Please u
 se KT11 1BW as the postcode for Google Maps to locate the Fairmile be
 tween Esher and Cobham on the A307 Portsmouth Road \n\nFor more infor
 mation visit https://networkinginsurrey.co.uk/events/free-lunchtime-my
 team-roundtable-cobham-757
DTSTART;TZID=Europe/London:20141007T123000
DTEND;TZID=Europe/London:20141007T140000
CATEGORIES:lunchtime, free, networking_skills, cobham
LOCATION:The Fairmile & Premier Inn KT11 1BQ
WEBSITE:
URL:
CONTACT:01932 845814
ORGANIZER;CN="Keith Grover, NiS Founder":https://networkinginsurrey.co
 .uk/profile/KeithGrover
ATTACH;FMTTYPE="image/jpeg":http://storage.ning.com/topology/rest/1.0/
 file/get/211213495?profile=original
ATTENDEE;ROLE=REQ-PARTICIPANT;PARTSTAT=ACCEPTED;RSVP=TRUE;CN="Keith Gr
 over, NiS Founder":https://networkinginsurrey.co.uk/profile/KeithGrove
 r
ATTENDEE;ROLE=REQ-PARTICIPANT;PARTSTAT=ACCEPTED;RSVP=TRUE;CN="Aernout 
 Fabius":https://networkinginsurrey.co.uk/profile/AernoutFabius
END:VEVENT
END:VCALENDAR
