BEGIN:VCALENDAR
PRODID:NingEventWidget-v1
VERSION:2.0
METHOD:PUBLISH
BEGIN:VTIMEZONE
TZID:Europe/London
X-LIC-LOCATION:Europe/London
BEGIN:DAYLIGHT
TZOFFSETFROM:+0000
TZOFFSETTO:+0100
TZNAME:BST
DTSTART:19700329T010000
RRULE:FREQ=YEARLY;BYMONTH=3;BYDAY=-1SU
END:DAYLIGHT
BEGIN:STANDARD
TZOFFSETFROM:+0100
TZOFFSETTO:+0000
TZNAME:GMT
DTSTART:19701025T020000
RRULE:FREQ=YEARLY;BYMONTH=10;BYDAY=-1SU
END:STANDARD
END:VTIMEZONE
BEGIN:VEVENT
UID:4626108:Event:75501
DTSTAMP:20260426T032454Z
SUMMARY:FREE Lunchtime MyTeam RoundTable, Cobham
DESCRIPTION:My Team Working Lunch at The Fairmile\n\nMy Team Network w
 as developed by Keith Grover, creator of Networking in Surrey. Find ou
 t how it all works at this informal lunchtime session.\nYou can get a 
 decent lunch for around Â£6 (see sample menu) - or just join me with a
  drink as I enjoy mine! \nToday's RoundTable Business TopicÂ Â (chosen
  by Member vote):Â Coach - or Mentor? Do you needa business or persona
 l coach, or perhaps a mentor? Or indeed, neither (or maybe even both?)
  '\n\n\"Thanks Keith!Â I was very pleased I joined the Working Lunch s
 ession with you all - really beneficial.\"Â Kirsten Brown, Independent
  Consultant, Arbonne\n\"Great meeting Keith. Look forward to the next 
 one...\"Â Mark Hughes, Funky Social Media\n\"A big thank you to everyo
 ne at todayâ€™s session for making me feel so welcome.\" Rhona Byrne,Â
  International Reiki Master/Teacher & Spiritual Life Coach\n\"Really e
 njoyed MyTeam Network at The Fairmile - a breath of fresh air from all
  other Networking Groups! Loved it and will attend again.\"Â 'Magic' T
 heo TheodorisÂ Magician &Â Mobile Sports Massage Therapist\n\"How refr
 eshing - a networking meeting where nobody tried to sell me anything!\
 " David Ross, Manager, Jarret & Lam Consulting\n\"I really enjoyed yes
 terday's meeting and would like to come again please.\"Â Louise Etson,
  Flourish Marketing\nCOST:Â FREE forÂ MyTeam Members and MyTeam Linked
 In Group MembersÂ (non-Members' first meeting also free -Â pleaseÂ boo
 k!) Everybody buys their own lunch or drink.Â \nBOOKING: Please CLICK 
 HEREÂ to book your FREE place\n[Update as at 27/10 - Â 2 places remain
 ing] When event shows SOLD OUT, please email keith@networkinginsurrey.
 co.ukÂ to go on theÂ waiting list.Â 'No shows' can't advance book agai
 n, but can go on the waiting list.Â \nMAP\nAmple free parking\nÂ \n\nF
 or more information visit https://networkinginsurrey.co.uk/events/free
 -lunchtime-myteam-roundtable-cobham-670
DTSTART;TZID=Europe/London:20151103T123000
DTEND;TZID=Europe/London:20151103T140000
CATEGORIES:lunchtime, free, networking_skills, cobham
LOCATION:The Fairmile & Premier Inn KT11 1BW
WEBSITE:
URL:
CONTACT:01932 845814
ORGANIZER;CN="Keith Grover, NiS Founder":https://networkinginsurrey.co
 .uk/profile/KeithGrover
ATTACH;FMTTYPE="image/jpeg":http://storage.ning.com/topology/rest/1.0/
 file/get/211213495?profile=original
ATTENDEE;ROLE=REQ-PARTICIPANT;PARTSTAT=ACCEPTED;RSVP=TRUE;CN="Keith Gr
 over, NiS Founder":https://networkinginsurrey.co.uk/profile/KeithGrove
 r
END:VEVENT
END:VCALENDAR
