BEGIN:VCALENDAR
PRODID:NingEventWidget-v1
VERSION:2.0
METHOD:PUBLISH
BEGIN:VTIMEZONE
TZID:Europe/London
X-LIC-LOCATION:Europe/London
BEGIN:DAYLIGHT
TZOFFSETFROM:+0000
TZOFFSETTO:+0100
TZNAME:BST
DTSTART:19700329T010000
RRULE:FREQ=YEARLY;BYMONTH=3;BYDAY=-1SU
END:DAYLIGHT
BEGIN:STANDARD
TZOFFSETFROM:+0100
TZOFFSETTO:+0000
TZNAME:GMT
DTSTART:19701025T020000
RRULE:FREQ=YEARLY;BYMONTH=10;BYDAY=-1SU
END:STANDARD
END:VTIMEZONE
BEGIN:VEVENT
UID:4626108:Event:75205
DTSTAMP:20260426T003545Z
SUMMARY:FREE Lunchtime MyTeam RoundTable, Cobham
DESCRIPTION:My Team Working Lunch at The Fairmile\n\nMy Team Network w
 as developed by Keith Grover, creator of Networking in Surrey. Find ou
 t how it all works at this informal lunchtime session.\nYou can get a 
 decent lunch for around £6 (see sample menu) - or just join me with a
  drink as I enjoy mine! \nToday's RoundTable Business Topic  (chosen
  by Member vote): Stand Out from the Crowd  - how to differentiate y
 our business in a crowded marketplace'\n\n\"Thanks Keith! I was very 
 pleased I joined the Working Lunch session with you all - really benef
 icial.\" Kirsten Brown, Independent Consultant, Arbonne\n\"Great meet
 ing Keith. Look forward to the next one...\" Mark Hughes, Funky Socia
 l Media\n\"A big thank you to everyone at today’s session for making
  me feel so welcome.\" Rhona Byrne, International Reiki Master/Teache
 r & Spiritual Life Coach\n\"Really enjoyed MyTeam Network at The Fairm
 ile - a breath of fresh air from all other Networking Groups! Loved it
  and will attend again.\" 'Magic' Theo Theodoris Magician & Mobile 
 Sports Massage Therapist\n\"How refreshing - a networking meeting wher
 e nobody tried to sell me anything!\" David Ross, Manager, Jarret & La
 m Consulting\n\"I really enjoyed yesterday's meeting and would like to
  come again please.\" Louise Etson, Flourish Marketing\nCOST: FREE f
 or MyTeam Members and MyTeam LinkedIn Group Members (non-Members' fi
 rst meeting also free - please book!) Everybody buys their own lunch
  or drink. \nBOOKING: Please CLICK HERE to book your FREE place\n[Up
 date 10/10 - 1 place remaining] When event shows SOLD OUT, please emai
 l keith@networkinginsurrey.co.uk to go on the waiting list. 'No sho
 ws' can't advance book again, but can go on the waiting list. \nMAP\n
 Ample free parking\n \n\nFor more information visit https://networkin
 ginsurrey.co.uk/events/free-lunchtime-myteam-roundtable-cobham-645
DTSTART;TZID=Europe/London:20151020T123000
DTEND;TZID=Europe/London:20151020T140000
CATEGORIES:lunchtime, free, networking_skills, cobham
LOCATION:The Fairmile & Premier Inn KT11 1BW
WEBSITE:
URL:
CONTACT:01932 845814
ORGANIZER;CN="Keith Grover, NiS Founder":https://networkinginsurrey.co
 .uk/profile/KeithGrover
ATTACH;FMTTYPE="image/jpeg":http://storage.ning.com/topology/rest/1.0/
 file/get/211213495?profile=original
ATTENDEE;ROLE=REQ-PARTICIPANT;PARTSTAT=ACCEPTED;RSVP=TRUE;CN="Keith Gr
 over, NiS Founder":https://networkinginsurrey.co.uk/profile/KeithGrove
 r
END:VEVENT
END:VCALENDAR
