BEGIN:VCALENDAR
PRODID:NingEventWidget-v1
VERSION:2.0
METHOD:PUBLISH
BEGIN:VTIMEZONE
TZID:Europe/London
X-LIC-LOCATION:Europe/London
BEGIN:DAYLIGHT
TZOFFSETFROM:+0000
TZOFFSETTO:+0100
TZNAME:BST
DTSTART:19700329T010000
RRULE:FREQ=YEARLY;BYMONTH=3;BYDAY=-1SU
END:DAYLIGHT
BEGIN:STANDARD
TZOFFSETFROM:+0100
TZOFFSETTO:+0000
TZNAME:GMT
DTSTART:19701025T020000
RRULE:FREQ=YEARLY;BYMONTH=10;BYDAY=-1SU
END:STANDARD
END:VTIMEZONE
BEGIN:VEVENT
UID:4626108:Event:70206
DTSTAMP:20260420T062521Z
SUMMARY:FREE Lunchtime MyTeam RoundTable, Cobham
DESCRIPTION:My Team Working Lunch at The Fairmile\n\nMy Team Network w
 as developed by Keith Grover, creator of Networking in Surrey. Find ou
 t how it all works at this informal lunchtime session.\nYou can get a 
 decent lunch for around £6 (see sample menu) - or just join me with a
  drink as I enjoy mine! \nToday's RoundTable Business Topic  (chosen
  by Member vote): 'Marketing on a Shoestring' - low cost (and no-cost!
 ) marketing strategies, tips and tricks.\n\n\"Thanks Keith! I was ver
 y pleased I joined the Working Lunch session with you all - really ben
 eficial.\" Kirsten Brown, Independent Consultant, Arbonne\n\"Great me
 eting Keith. Look forward to the next one...\" Mark Hughes, Funky Soc
 ial Media\n\"Really enjoyed MyTeam Network at The Fairmile - a breath 
 of fresh air from all other Networking Groups! Loved it and will atten
 d again.\" 'Magic' Theo Theodoris Magician & Mobile Sports Massage 
 Therapist\n\"How refreshing - a networking meeting where nobody tried 
 to sell me anything!\" David Ross, Manager, Jarret & Lam Consulting\nC
 OST: FREE for MyTeam Members and MyTeam LinkedIn Group Members (non
 -Members' first meeting also free - please book!) Everybody buys the
 ir own lunch or drink. \nBOOKING: Please CLICK HERE to book your FRE
 E place\n[Update 2 Jan - just 1 place left... 'No shows' can't advance
  book again, but can go on the waiting list]. \nMAP\nAmple free parki
 ng\nFINDING THE VENUE: Bizarrely, the Post Office, Eventbrite, Google 
 Maps and Chef & Brewer between them can't agree on the postcode and ma
 p location!  Please use KT11 1BW as the postcode for Google Maps to l
 ocate the Fairmile between Esher and Cobham on the A307 Portsmouth Ro
 ad \n \n\nFor more information visit https://networkinginsurrey.co.u
 k/events/free-lunchtime-myteam-roundtable-cobham-639
DTSTART;TZID=Europe/London:20150106T123000
DTEND;TZID=Europe/London:20150106T140000
CATEGORIES:lunchtime, free, networking_skills, cobham
LOCATION:The Fairmile & Premier Inn KT11 1BQ
WEBSITE:
URL:
CONTACT:01932 845814
ORGANIZER;CN="Keith Grover, NiS Founder":https://networkinginsurrey.co
 .uk/profile/KeithGrover
ATTACH;FMTTYPE="image/jpeg":http://storage.ning.com/topology/rest/1.0/
 file/get/211213495?profile=original
ATTENDEE;ROLE=REQ-PARTICIPANT;PARTSTAT=ACCEPTED;RSVP=TRUE;CN="Keith Gr
 over, NiS Founder":https://networkinginsurrey.co.uk/profile/KeithGrove
 r
ATTENDEE;ROLE=REQ-PARTICIPANT;PARTSTAT=ACCEPTED;RSVP=TRUE;CN="Barry Co
 oper":https://networkinginsurrey.co.uk/profile/BarryCooper886
END:VEVENT
END:VCALENDAR
