BEGIN:VCALENDAR
PRODID:NingEventWidget-v1
VERSION:2.0
METHOD:PUBLISH
BEGIN:VTIMEZONE
TZID:Europe/London
X-LIC-LOCATION:Europe/London
BEGIN:DAYLIGHT
TZOFFSETFROM:+0000
TZOFFSETTO:+0100
TZNAME:BST
DTSTART:19700329T010000
RRULE:FREQ=YEARLY;BYMONTH=3;BYDAY=-1SU
END:DAYLIGHT
BEGIN:STANDARD
TZOFFSETFROM:+0100
TZOFFSETTO:+0000
TZNAME:GMT
DTSTART:19701025T020000
RRULE:FREQ=YEARLY;BYMONTH=10;BYDAY=-1SU
END:STANDARD
END:VTIMEZONE
BEGIN:VEVENT
UID:4626108:Event:55724
DTSTAMP:20260419T211321Z
SUMMARY:FREE Lunchtime MyTeam RoundTable, Cobham
DESCRIPTION:My Team Working Lunch at the Fairmile\n\nMy Team Network i
 s a new networking group run by Keith Grover, creator of Networking i
 n Surrey. At this lunchtime session you can find out how it all works,
  and decide if you want to be part of this new concept in business net
 working...\nWATCH OUR INTRO VIDEO HERE Please click the [  ]  icon
  bottom right to view full screen)\n**** For more details on MyTeam Ne
 twork please read the FAQs here ****\nThis will be an informal and i
 nteractive session. You can get a decent lunch here for around £6 - o
 r just join me with a drink as I enjoy mine! \nMyTeam Network takes y
 our networking to the next level! Today's RoundTable Business Topic '
 Getting more Referrals - the Holy Grail of Business Networking'.\n\"Th
 anks Keith! I was very pleased I joined the Working Lunch session wit
 h you all - I find that really beneficial, so please do let me know wh
 en you are running one again.\" Kirsten Brown, Independent Consultant
 , Arbonne\nGreat meeting Keith. Look forward to the next one... Mark 
 Hughes, Funky Social Media\nThanks Keith, I enjoyed the meeting and lo
 ok forward to the next one. Graham Armfield, Coolfields Consulting\nB
 OOKING: Please CLICK HERE to book (MyTeam Members can alternatively u
 se the 'Attending' facility here on NiS to book in).\nCOST: MyTeam Mem
 bers FREE (non-Members' first 3 meetings are also free - but you must
  book your place please). Everybody buys their own lunch or drink. \n
 MAP\nPlenty of free parking available\nFINDING THE VENUE: Bizarrely, t
 he Post Office, Eventbrite, Google Maps and Chef & Brewer between them
  can't seem to agree on the postcode and map location!  Please use KT
 11 1BW in Google Maps to locate the Fairmile between Esher and Cobham
  on the A307 Portsmouth Road - not as Eventbrite insists on placing it
 , in the middle of the dual carriageway of the A3. Chef & Brewer who o
 wn the Farmile have it as KT11 1BQ, and the Post Office postcode finde
 r doesn't recognise The Fairmile Arms as existing at all - spooky! Wha
 t your satnav will make of it is anybody's guess... :0)\n\n \n\nFor m
 ore information visit https://networkinginsurrey.co.uk/events/free-lun
 chtime-myteam-roundtable-cobham-6
DTSTART;TZID=Europe/London:20130507T123000
DTEND;TZID=Europe/London:20130507T140000
CATEGORIES:lunchtime, free, networking_skills, cobham
LOCATION:The Fairmile & Premier Inn KT11 1BQ
WEBSITE:
URL:
CONTACT:01932 845814
ORGANIZER;CN="Keith Grover, NiS Founder":https://networkinginsurrey.co
 .uk/profile/KeithGrover
ATTACH;FMTTYPE="image/jpeg":http://storage.ning.com/topology/rest/1.0/
 file/get/211213495?profile=original
ATTENDEE;ROLE=REQ-PARTICIPANT;PARTSTAT=ACCEPTED;RSVP=TRUE;CN="Michael 
 Eve":https://networkinginsurrey.co.uk/profile/MichaelStuartEve
ATTENDEE;ROLE=REQ-PARTICIPANT;PARTSTAT=ACCEPTED;RSVP=TRUE;CN="Keith Gr
 over, NiS Founder":https://networkinginsurrey.co.uk/profile/KeithGrove
 r
ATTENDEE;ROLE=REQ-PARTICIPANT;PARTSTAT=TENTATIVE;RSVP=TRUE;CN="Bruce R
 amshaw":https://networkinginsurrey.co.uk/profile/BruceRamshaw
END:VEVENT
END:VCALENDAR
