BEGIN:VCALENDAR
PRODID:NingEventWidget-v1
VERSION:2.0
METHOD:PUBLISH
BEGIN:VTIMEZONE
TZID:Europe/London
X-LIC-LOCATION:Europe/London
BEGIN:DAYLIGHT
TZOFFSETFROM:+0000
TZOFFSETTO:+0100
TZNAME:BST
DTSTART:19700329T010000
RRULE:FREQ=YEARLY;BYMONTH=3;BYDAY=-1SU
END:DAYLIGHT
BEGIN:STANDARD
TZOFFSETFROM:+0100
TZOFFSETTO:+0000
TZNAME:GMT
DTSTART:19701025T020000
RRULE:FREQ=YEARLY;BYMONTH=10;BYDAY=-1SU
END:STANDARD
END:VTIMEZONE
BEGIN:VEVENT
UID:4626108:Event:78094
DTSTAMP:20260425T162840Z
SUMMARY:FREE Lunchtime MyTeam RoundTable, Cobham
DESCRIPTION:My Team Working Lunch at The Fairmile\n\nMy Team Network w
 as developed by Keith Grover, creator of Networking in Surrey. Find ou
 t how it all works at this informal lunchtime session.\nYou can get a 
 decent lunch for around Â£6 (see sample menu) - or just join me with a
  drink as I enjoy mine! \nToday's RoundTable Business TopicÂ Â (chosen
  by Member vote): ''Free tools and resources that save time and money-
  share the best ones you have found!'Â Â \n\n\"Thanks Keith!Â I was ve
 ry pleased I joined the Working Lunch session with you all - really be
 neficial.\"Â Kirsten Brown, Independent Consultant, Arbonne\n\"Great m
 eeting Keith. Look forward to the next one...\"Â Mark Hughes, Funky So
 cial Media\n\"A big thank you to everyone at todayâ€™s session for mak
 ing me feel so welcome.\" Rhona Byrne,Â International Reiki Master/Tea
 cher & Spiritual Life Coach\n\"Really enjoyed MyTeam Network at The Fa
 irmile - a breath of fresh air from all other Networking Groups! Loved
  it and will attend again.\"Â 'Magic' Theo TheodorisÂ Magician &Â Mobi
 le Sports Massage Therapist\n\"How refreshing - a networking meeting w
 here nobody tried to sell me anything!\" David Ross, Manager, Jarret &
  Lam Consulting\n\"I really enjoyed yesterday's meeting and would like
  to come again please.\"Â Louise Etson, Flourish Marketing\nCOST:Â FRE
 E forÂ MyTeam Members and MyTeam LinkedIn Group MembersÂ (non-Members'
  first meeting also free -Â pleaseÂ book!) Everybody buys their own lu
 nch or drink.Â \nBOOKING: Please CLICK HEREÂ to book your FREE place\n
 [Update 29/3 - 7 places remaining] When this event shows SOLD OUT, ple
 ase email keith@networkinginsurrey.co.ukÂ to go on theÂ waiting list.Â
  'No shows' can't advance book again, but can go on the waiting list.Â
  \nMAP\nAmple free parking\nÂ \n\nFor more information visit https://n
 etworkinginsurrey.co.uk/events/free-lunchtime-myteam-roundtable-cobham
 -531
DTSTART;TZID=Europe/London:20160419T123000
DTEND;TZID=Europe/London:20160419T140000
CATEGORIES:lunchtime, free, networking_skills, cobham
LOCATION:The Fairmile & Premier Inn KT11 1BW
WEBSITE:
URL:
CONTACT:01932 845814
ORGANIZER;CN="Keith Grover, NiS Founder":https://networkinginsurrey.co
 .uk/profile/KeithGrover
ATTACH;FMTTYPE="image/jpeg":http://storage.ning.com/topology/rest/1.0/
 file/get/211213495?profile=original
ATTENDEE;ROLE=REQ-PARTICIPANT;PARTSTAT=ACCEPTED;RSVP=TRUE;CN="Keith Gr
 over, NiS Founder":https://networkinginsurrey.co.uk/profile/KeithGrove
 r
ATTENDEE;ROLE=REQ-PARTICIPANT;PARTSTAT=ACCEPTED;RSVP=TRUE;CN="Andrew H
 older":https://networkinginsurrey.co.uk/profile/AndrewHolder
END:VEVENT
END:VCALENDAR
