BEGIN:VCALENDAR
PRODID:NingEventWidget-v1
VERSION:2.0
METHOD:PUBLISH
BEGIN:VTIMEZONE
TZID:Europe/London
X-LIC-LOCATION:Europe/London
BEGIN:DAYLIGHT
TZOFFSETFROM:+0000
TZOFFSETTO:+0100
TZNAME:BST
DTSTART:19700329T010000
RRULE:FREQ=YEARLY;BYMONTH=3;BYDAY=-1SU
END:DAYLIGHT
BEGIN:STANDARD
TZOFFSETFROM:+0100
TZOFFSETTO:+0000
TZNAME:GMT
DTSTART:19701025T020000
RRULE:FREQ=YEARLY;BYMONTH=10;BYDAY=-1SU
END:STANDARD
END:VTIMEZONE
BEGIN:VEVENT
UID:4626108:Event:74210
DTSTAMP:20260419T193535Z
SUMMARY:FREE Lunchtime MyTeam RoundTable, Cobham
DESCRIPTION:My Team Working Lunch at The Fairmile\n\nMy Team Network w
 as developed by Keith Grover, creator of Networking in Surrey. Find ou
 t how it all works at this informal lunchtime session.\nYou can get a 
 decent lunch for around £6 (see sample menu) - or just join me with a
  drink as I enjoy mine! \nToday's RoundTable Business Topic  (chosen
  by Member vote):  'Great Inpirations - share an inspiring mentor, bo
 ok or experience with the group and tell us how it changed the way you
  think or act!'\n\n\"Thanks Keith! I was very pleased I joined the Wo
 rking Lunch session with you all - really beneficial.\" Kirsten Brown
 , Independent Consultant, Arbonne\n\"Great meeting Keith. Look forward
  to the next one...\" Mark Hughes, Funky Social Media\n\"A big thank 
 you to everyone at today’s session for making me feel so welcome.\" 
 Rhona Byrne, International Reiki Master/Teacher & Spiritual Life Coac
 h\n\"Really enjoyed MyTeam Network at The Fairmile - a breath of fresh
  air from all other Networking Groups! Loved it and will attend again.
 \" 'Magic' Theo Theodoris Magician & Mobile Sports Massage Therapis
 t\n\"How refreshing - a networking meeting where nobody tried to sell 
 me anything!\" David Ross, Manager, Jarret & Lam Consulting\n\"I reall
 y enjoyed yesterday's meeting and would like to come again please.\" 
 Louise Etson, Flourish Marketing\nCOST: FREE for MyTeam Members and 
 MyTeam LinkedIn Group Members (non-Members' first meeting also free -
  please book!) Everybody buys their own lunch or drink. \nBOOKING: 
 Please CLICK HERE to book your FREE place\n[Update 11/8 - 2 places re
 maining] When this event shows SOLD OUT please email keith@networkingi
 nsurrey.co.uk to go on the waiting list. 'No shows' can't advance b
 ook again, but can go on the waiting list. \nMAP\nAmple free parking\
 n \n\nFor more information visit https://networkinginsurrey.co.uk/eve
 nts/free-lunchtime-myteam-roundtable-cobham-381
DTSTART;TZID=Europe/London:20150818T123000
DTEND;TZID=Europe/London:20150818T140000
CATEGORIES:lunchtime, free, networking_skills, cobham
LOCATION:The Fairmile & Premier Inn KT11 1BW
WEBSITE:
URL:
CONTACT:01932 845814
ORGANIZER;CN="Keith Grover, NiS Founder":https://networkinginsurrey.co
 .uk/profile/KeithGrover
ATTACH;FMTTYPE="image/jpeg":http://storage.ning.com/topology/rest/1.0/
 file/get/211213495?profile=original
ATTENDEE;ROLE=REQ-PARTICIPANT;PARTSTAT=ACCEPTED;RSVP=TRUE;CN="Keith Gr
 over, NiS Founder":https://networkinginsurrey.co.uk/profile/KeithGrove
 r
END:VEVENT
END:VCALENDAR
