BEGIN:VCALENDAR
PRODID:NingEventWidget-v1
VERSION:2.0
METHOD:PUBLISH
BEGIN:VTIMEZONE
TZID:Europe/London
X-LIC-LOCATION:Europe/London
BEGIN:DAYLIGHT
TZOFFSETFROM:+0000
TZOFFSETTO:+0100
TZNAME:BST
DTSTART:19700329T010000
RRULE:FREQ=YEARLY;BYMONTH=3;BYDAY=-1SU
END:DAYLIGHT
BEGIN:STANDARD
TZOFFSETFROM:+0100
TZOFFSETTO:+0000
TZNAME:GMT
DTSTART:19701025T020000
RRULE:FREQ=YEARLY;BYMONTH=10;BYDAY=-1SU
END:STANDARD
END:VTIMEZONE
BEGIN:VEVENT
UID:4626108:Event:4505
DTSTAMP:20260424T143426Z
SUMMARY:FREE LinkedIn Surrey Networkers Evening, Woking
DESCRIPTION:LinkedIn Surrey Networkers Evening at The Lightbox\n\nThis
  is the inaugural meeting of the LinkedIn Surrey Networkers UK Group. 
 All are welcome - and if you'd also like to join our online group, org
 anised by Bob Gardner, you'll find it here on LinkedIn.\n6.00 pm Welco
 me on arrival and informal networking opportunity\n6.30 pm Guided tour
  of Art Exhibition & Light Box\n7.00 pm Introduction and explanation o
 f the theme for the evening: “Business as a Life-Style Choice”Chai
 rman &Host: Bob Gardner from Achieve Solutions\nGuest Speaker: Jo Clar
 kson, UK Operations Director & Co-owner The Alternative Board – Chan
 ge Perspective, Improve Business, Enjoy Life\nGuest Speaker: Eddie Ray
 , Founder and Managing Director. Progressive Sports – Engaging with 
 young people to educate them in the benefits of Sport, encouraging the
 m to lead active and healthy lives.\nClosing remarks - A word from our
  Sponsor for this Evening - Richard Greenacre – Merivium Associates.
 \n8.00 pm Informal Networking and a chance to meet and discuss with th
 e Guest Speakers and fellow Surrey Networkers. Chance to explore the E
 xhibition\nLicensed Bar\n9.30 pm Finish.\nCLICK HERE TO BOOK: It's fre
 e to attend, and you can now book your place online.\nPLEASE NOTE: Foo
 d and Drink available if pre-booked before the evening - £10 per head
  payable to the caterer - please book by sending an email to Bob Gardn
 er: r.w.gardner@btinternet.com\nMAP\nVENUE\n\nFor more information vis
 it https://networkinginsurrey.co.uk/events/free-linkedin-surrey
DTSTART;TZID=Europe/London:20101111T180000
DTEND;TZID=Europe/London:20101111T213000
CATEGORIES:business_networking_surrey, free, evening, woking, linked_i
 n
LOCATION:The Lightbox, Woking GU21 4AA
WEBSITE:http://www.thelightbox.org.uk/about
URL:http://www.thelightbox.org.uk/about
CONTACT:
ORGANIZER:Bob Gardner
ATTACH;FMTTYPE="image/jpeg":http://storage.ning.com/topology/rest/1.0/
 file/get/2591386934?profile=original
ATTENDEE;ROLE=REQ-PARTICIPANT;PARTSTAT=ACCEPTED;RSVP=TRUE;CN="Fiona Ro
 ss":https://networkinginsurrey.co.uk/profile/FionaRossGuimont
ATTENDEE;ROLE=REQ-PARTICIPANT;PARTSTAT=ACCEPTED;RSVP=TRUE;CN="Tessa Ho
 od":https://networkinginsurrey.co.uk/profile/TessaHood
ATTENDEE;ROLE=REQ-PARTICIPANT;PARTSTAT=ACCEPTED;RSVP=TRUE;CN="Andrew W
 idgery":https://networkinginsurrey.co.uk/profile/AndrewWidgery
ATTENDEE;ROLE=REQ-PARTICIPANT;PARTSTAT=ACCEPTED;RSVP=TRUE;CN="Mark Law
 son":https://networkinginsurrey.co.uk/profile/MarkLawson
ATTENDEE;ROLE=REQ-PARTICIPANT;PARTSTAT=ACCEPTED;RSVP=TRUE;CN="Keith Gr
 over, NiS Founder":https://networkinginsurrey.co.uk/profile/KeithGrove
 r
ATTENDEE;ROLE=REQ-PARTICIPANT;PARTSTAT=TENTATIVE;RSVP=TRUE;CN="Annie H
 eggie":https://networkinginsurrey.co.uk/profile/Annie
ATTENDEE;ROLE=REQ-PARTICIPANT;PARTSTAT=TENTATIVE;RSVP=TRUE;CN="Max Wri
 ght":https://networkinginsurrey.co.uk/profile/MaxWright
ATTENDEE;ROLE=REQ-PARTICIPANT;PARTSTAT=TENTATIVE;RSVP=TRUE;CN="Tanja G
 ower":https://networkinginsurrey.co.uk/profile/TanjaGower
ATTENDEE;ROLE=REQ-PARTICIPANT;PARTSTAT=TENTATIVE;RSVP=TRUE;CN="Lynne S
 kinner":https://networkinginsurrey.co.uk/profile/LynneSkinner
ATTENDEE;ROLE=REQ-PARTICIPANT;PARTSTAT=TENTATIVE;RSVP=TRUE;CN="Alan Ro
 gers":https://networkinginsurrey.co.uk/profile/DreamGeniusLtd
END:VEVENT
END:VCALENDAR
