BEGIN:VCALENDAR
PRODID:NingEventWidget-v1
VERSION:2.0
METHOD:PUBLISH
BEGIN:VTIMEZONE
TZID:Europe/London
X-LIC-LOCATION:Europe/London
BEGIN:DAYLIGHT
TZOFFSETFROM:+0000
TZOFFSETTO:+0100
TZNAME:BST
DTSTART:19700329T010000
RRULE:FREQ=YEARLY;BYMONTH=3;BYDAY=-1SU
END:DAYLIGHT
BEGIN:STANDARD
TZOFFSETFROM:+0100
TZOFFSETTO:+0000
TZNAME:GMT
DTSTART:19701025T020000
RRULE:FREQ=YEARLY;BYMONTH=10;BYDAY=-1SU
END:STANDARD
END:VTIMEZONE
BEGIN:VEVENT
UID:4626108:Event:547037
DTSTAMP:20260420T190235Z
SUMMARY:FREE LinkedIn Local Live! Morning, Camberley
DESCRIPTION:Free LinkedIn Local Sociable Networking at The Ely\r\nThis
  is your opportunity to meet LinkedIn connections face to face!\r\n\r\
 n#LinkedInLocal is an idea that started in Australia and has really ca
 ught people's imaginations. The idea is very simply to put the social 
 back into social media, to meet the person behind the LinkedIn profile
 .\r\n\r\nIt’s a great way to meet with existing contacts and to make
  new connections in an informal business context.\r\nSimply come along
 , buy a drink at the bar and connect with other LinkedIn members and s
 tart building relationships.\r\nBring your business cards but leave yo
 ur pitch at home.\r\nThe event is organised by Siobhan Goodchild and F
 rances Cassell.\r\nCOST: FREE to attend (just buy your own food & drin
 ks)\r\nBOOKING: Please CLICK HERE to claim your free ticket \r\nMAP\r
 \n\r\n\n\nFor more information visit https://networkinginsurrey.co.uk/
 events/free-linkedin-local-live-morning-camberley
DTSTART;TZID=Europe/London:20250924T093000
DTEND;TZID=Europe/London:20250924T110000
CATEGORIES:free, morning, camberley, linkedin
LOCATION:The Ely GU17 9LJ
WEBSITE:
URL:
CONTACT:
ORGANIZER:Siobhan Goodchild and Frances Cassell
ATTACH;FMTTYPE="image/jpeg":https://storage.ning.com/topology/rest/1.0
 /file/get/13706442094?profile=original
ATTENDEE;ROLE=REQ-PARTICIPANT;PARTSTAT=ACCEPTED;RSVP=TRUE;CN="Keith Gr
 over, NiS Founder":https://networkinginsurrey.co.uk/profile/KeithGrove
 r
END:VEVENT
END:VCALENDAR
