BEGIN:VCALENDAR
PRODID:NingEventWidget-v1
VERSION:2.0
METHOD:PUBLISH
BEGIN:VTIMEZONE
TZID:Europe/London
X-LIC-LOCATION:Europe/London
BEGIN:DAYLIGHT
TZOFFSETFROM:+0000
TZOFFSETTO:+0100
TZNAME:BST
DTSTART:19700329T010000
RRULE:FREQ=YEARLY;BYMONTH=3;BYDAY=-1SU
END:DAYLIGHT
BEGIN:STANDARD
TZOFFSETFROM:+0100
TZOFFSETTO:+0000
TZNAME:GMT
DTSTART:19701025T020000
RRULE:FREQ=YEARLY;BYMONTH=10;BYDAY=-1SU
END:STANDARD
END:VTIMEZONE
BEGIN:VEVENT
UID:4626108:Event:541797
DTSTAMP:20260419T221544Z
SUMMARY:FREE LinkedIn Local Live! Evening Kingston
DESCRIPTION:Free LinkedIn Local Sociable Networking at the Hart's Boat
 yard Pub\r\n\r\nThis is your opportunity to meet LinkedIn connections 
 face to face!\r\n#LinkedInLocal is an idea that started in Australia a
 nd has really caught people's imaginations. The idea is very simply to
  put the social back into social media, to meet the person behind the 
 LinkedIn profile.\r\n\r\nIt’s a great way to meet with existing cont
 acts and to make new connections in an informal business context.\r\nS
 imply come along, buy a drink at the bar and connect with other Linked
 In members and start building relationships.\r\nBring your business ca
 rds but leave your pitch at home.\r\nThe event is organised by Richard
  Excell and a motley crew of local networking luminaries!\r\nCOST: FR
 EE to attend (just buy your own food & drinks)\r\nBOOKING: Please CLIC
 K HERE to claim your free ticket \r\nMAP\r\nParking in the pub's car 
 park £2 for 2 hours\r\n\n\nFor more information visit https://network
 inginsurrey.co.uk/events/free-linkedin-local-live-evening-kingston
DTSTART;TZID=Europe/London:20240502T173000
DTEND;TZID=Europe/London:20240502T193000
CATEGORIES:free, evening, weybridge, linkedin
LOCATION:Harts Boatyard Surbiton KT6 4ES
WEBSITE:
URL:
CONTACT:
ORGANIZER:Richard Excell
ATTACH;FMTTYPE="image/jpeg":https://storage.ning.com/topology/rest/1.0
 /file/get/12436179669?profile=original
ATTENDEE;ROLE=REQ-PARTICIPANT;PARTSTAT=ACCEPTED;RSVP=TRUE;CN="Keith Gr
 over, NiS Founder":https://networkinginsurrey.co.uk/profile/KeithGrove
 r
END:VEVENT
END:VCALENDAR
