BEGIN:VCALENDAR
PRODID:NingEventWidget-v1
VERSION:2.0
METHOD:PUBLISH
BEGIN:VTIMEZONE
TZID:Europe/London
X-LIC-LOCATION:Europe/London
BEGIN:DAYLIGHT
TZOFFSETFROM:+0000
TZOFFSETTO:+0100
TZNAME:BST
DTSTART:19700329T010000
RRULE:FREQ=YEARLY;BYMONTH=3;BYDAY=-1SU
END:DAYLIGHT
BEGIN:STANDARD
TZOFFSETFROM:+0100
TZOFFSETTO:+0000
TZNAME:GMT
DTSTART:19701025T020000
RRULE:FREQ=YEARLY;BYMONTH=10;BYDAY=-1SU
END:STANDARD
END:VTIMEZONE
BEGIN:VEVENT
UID:4626108:Event:547402
DTSTAMP:20260420T191826Z
SUMMARY:FREE LinkedIn Local Live! Evening, Farnborough
DESCRIPTION:Free LinkedIn Local Sociable Networking at the Holiday Inn
 \r\nThis is your opportunity to meet LinkedIn connections face to face
 !\r\n\r\n#LinkedInLocal is an idea that started in Australia and has r
 eally caught people's imaginations. The idea is very simply to put the
  social back into social media, to meet the person behind the LinkedIn
  profile.\r\n\r\nIt’s a great way to meet with existing contacts and
  to make new connections in an informal business context.\r\nSpecial G
 uest & Sponsor: Lucy Talbot from Flow Social\r\nThis month’s event i
 s proudly sponsored by Lucy Talbot from Flow Social, a leading expert 
 in social media strategy. Lucy will be sharing invaluable insights on 
 how to use social media to grow your personal brand and connect more a
 uthentically, online and offline. Whether you're a business owner, fre
 elancer, or climbing the career ladder, Lucy's tips will help you harn
 ess the power of social media with purpose and personality.\r\n\r\nSim
 ply come along, buy a drink at the bar and connect with other LinkedIn
  members and start building relationships.\r\nBring your business card
 s but leave your pitch at home.\r\nThe event is organised by Liv Marga
 ux Gilbert-Towning.\r\nCOST: FREE to attend (just buy your own food & 
 drinks)\r\nBOOKING: Please CLICK HERE to claim your free ticket \r\nM
 AP\r\n\r\n\n\nFor more information visit https://networkinginsurrey.co
 .uk/events/free-linkedin-local-live-evening-farnborough
DTSTART;TZID=Europe/London:20250923T190000
DTEND;TZID=Europe/London:20250924T210000
CATEGORIES:free, evening, farnborough, linkedin
LOCATION:Holiday Inn GU14 6AZ
WEBSITE:
URL:
CONTACT:
ORGANIZER:Liv Margaux Gilbert-Towning
ATTACH;FMTTYPE="image/jpeg":https://storage.ning.com/topology/rest/1.0
 /file/get/13717722252?profile=original
ATTENDEE;ROLE=REQ-PARTICIPANT;PARTSTAT=ACCEPTED;RSVP=TRUE;CN="Keith Gr
 over, NiS Founder":https://networkinginsurrey.co.uk/profile/KeithGrove
 r
END:VEVENT
END:VCALENDAR
