BEGIN:VCALENDAR
PRODID:NingEventWidget-v1
VERSION:2.0
METHOD:PUBLISH
BEGIN:VTIMEZONE
TZID:Europe/London
X-LIC-LOCATION:Europe/London
BEGIN:DAYLIGHT
TZOFFSETFROM:+0000
TZOFFSETTO:+0100
TZNAME:BST
DTSTART:19700329T010000
RRULE:FREQ=YEARLY;BYMONTH=3;BYDAY=-1SU
END:DAYLIGHT
BEGIN:STANDARD
TZOFFSETFROM:+0100
TZOFFSETTO:+0000
TZNAME:GMT
DTSTART:19701025T020000
RRULE:FREQ=YEARLY;BYMONTH=10;BYDAY=-1SU
END:STANDARD
END:VTIMEZONE
BEGIN:VEVENT
UID:4626108:Event:527282
DTSTAMP:20260422T163933Z
SUMMARY:FREE LinkedIn Local Guildford Evening Online
DESCRIPTION:Free LinkedIn Local Sociable Networking Online\r\n\r\nFor 
 obvious reasons, #LinkedInLocal Guildford is online for now... socia
 l distancing becomes Distant Socialising :0)\r\n\r\nThis is your oppor
 tunity to meet LinkedIn connections online!\r\n#LinkedInLocal is an id
 ea that started in Australia and has caught peoples imaginations. The 
 idea is very simply to put the social back into social media, to meet 
 the person behind the LinkedIn profile. It’s a great way to meet wit
 h existing contacts and to make new connections in an informal busines
 s context.\r\nSimply come along, and connect with other LinkedIn membe
 rs and start building relationships.\r\nWe have been established since
  March 2019 and have grown a super supportive community.\r\n\r\nThe ev
 ent is organised by NiS Members Rebecca Newenham and Sally Rule.\r\
 nBy all means share this link with others.\r\nBOOKING: Please CLICK HE
 RE and register so we know who to expect...\r\n\n\nFor more informatio
 n visit https://networkinginsurrey.co.uk/events/free-linkedin-local-gu
 ildford-evening-online-3
DTSTART;TZID=Europe/London:20210615T190000
DTEND;TZID=Europe/London:20210615T201500
CATEGORIES:free, evening, guildford, linkedin
LOCATION:Online only
WEBSITE:
URL:
CONTACT:
ORGANIZER:Rebecca Newenham and Sally Rule
ATTACH;FMTTYPE="image/jpeg":https://storage.ning.com/topology/rest/1.0
 /file/get/4538825678?profile=original
ATTENDEE;ROLE=REQ-PARTICIPANT;PARTSTAT=ACCEPTED;RSVP=TRUE;CN="Keith Gr
 over, NiS Founder":https://networkinginsurrey.co.uk/profile/KeithGrove
 r
END:VEVENT
END:VCALENDAR
