BEGIN:VCALENDAR
PRODID:NingEventWidget-v1
VERSION:2.0
METHOD:PUBLISH
BEGIN:VTIMEZONE
TZID:Europe/London
X-LIC-LOCATION:Europe/London
BEGIN:DAYLIGHT
TZOFFSETFROM:+0000
TZOFFSETTO:+0100
TZNAME:BST
DTSTART:19700329T010000
RRULE:FREQ=YEARLY;BYMONTH=3;BYDAY=-1SU
END:DAYLIGHT
BEGIN:STANDARD
TZOFFSETFROM:+0100
TZOFFSETTO:+0000
TZNAME:GMT
DTSTART:19701025T020000
RRULE:FREQ=YEARLY;BYMONTH=10;BYDAY=-1SU
END:STANDARD
END:VTIMEZONE
BEGIN:VEVENT
UID:4626108:Event:353245
DTSTAMP:20260422T103840Z
SUMMARY:FREE LinkedIn Local Alton Evening Online
DESCRIPTION:Free LinkedIn Local Alton and Bordon Sociable Networking O
 nline\r\nThe newest #LinkedInLocal is launching in Alton and will be
  online for now... social distancing becomes Distant Socialising :0)\r
 \nThe event is organised by Rob Fryer and Sarah Bass along with SIGN
 AL. Linked in Local is a growing trend – until now, focused on brin
 ging your Linked In contacts offline and into a pub near you. \r\nHowe
 ver! Times have changed and now we are all about bringing our Linked I
 n contacts into a group Zoom session! We’ve never done this before b
 ut we’ll be using the Zoom ‘breakout rooms’ to get you all chatt
 ing with other Zoom surfers like you! We think it will feel a bit like
  online speed dating for small business owners – dress up, bring you
 r own beers and prepare to grow your Linked In network! Your online bu
 siness community has never been so important.\r\nWe must keep our thri
 ving business community going and continue giving you a safe place to 
 communicate, share best practice and support each other!  \r\nBy all
  means share this link with others.\r\nCOST: FREE\r\nBOOKING: Please C
 LICK HERE and register so we know who to expect...\r\n...and if you di
 dn't manage to register, join anyway - click here now... to join the 
 Zoom meeting in progress\n\nFor more information visit https://network
 inginsurrey.co.uk/events/free-linkedin-local-alton-evening-online
DTSTART;TZID=Europe/London:20200421T190000
DTEND;TZID=Europe/London:20200421T210000
CATEGORIES:free, evening, alton, linkedin
LOCATION:Online only
WEBSITE:
URL:
CONTACT:
ORGANIZER:Rob Fryer and Sarah Bass
ATTACH;FMTTYPE="image/jpeg":https://storage.ning.com/topology/rest/1.0
 /file/get/4472132332?profile=original
ATTENDEE;ROLE=REQ-PARTICIPANT;PARTSTAT=ACCEPTED;RSVP=TRUE;CN="Keith Gr
 over, NiS Founder":https://networkinginsurrey.co.uk/profile/KeithGrove
 r
END:VEVENT
END:VCALENDAR
