BEGIN:VCALENDAR
PRODID:NingEventWidget-v1
VERSION:2.0
METHOD:PUBLISH
BEGIN:VTIMEZONE
TZID:Europe/London
X-LIC-LOCATION:Europe/London
BEGIN:DAYLIGHT
TZOFFSETFROM:+0000
TZOFFSETTO:+0100
TZNAME:BST
DTSTART:19700329T010000
RRULE:FREQ=YEARLY;BYMONTH=3;BYDAY=-1SU
END:DAYLIGHT
BEGIN:STANDARD
TZOFFSETFROM:+0100
TZOFFSETTO:+0000
TZNAME:GMT
DTSTART:19701025T020000
RRULE:FREQ=YEARLY;BYMONTH=10;BYDAY=-1SU
END:STANDARD
END:VTIMEZONE
BEGIN:VEVENT
UID:4626108:Event:3951
DTSTAMP:20260423T144223Z
SUMMARY:FREE LG Networking Morning, Weybridge
DESCRIPTION:FREE informal LG Networking Morning\n\nAt LG Networking we
  are introducing some informal networking meetings on our schedule. Th
 is event is at the Oatlands Chaser and will benefit anyone interested 
 in networking with other local businesses in a relaxed and informal at
 mosphere. You don't have to be a member of LG Networking to attend, ju
 st come along to join us for a coffee and a chat and promote your busi
 ness. It's easy! This is a new initiative for LG and we expect to attr
 act lots of new faces...all are welcome to attend.\nWe want to find ou
 t more about what you do, so please remember to bring business cards a
 nd promotional material or samples of what you have to offer.\nCOST: N
 o charge for the meeting - just pay for your own drinks. Feel free to 
 stay as long as you like.\nBOOKING: There's no need to book - please j
 ust turn up and meet your LG host, purchase your drink from the bar an
 d get networking!\nMAP & DIRECTIONS\n---------------------------------
 ---\nLG Networking has been created by NiS MEmber Catherine Jackson fo
 r successful business growth and development. Our events are for Busin
 ess Men & Women, and our success lies in creating a networking organis
 ation based on the principles of business exchange and a positive atti
 tude of mutual support.\n\nFor more information visit https://networki
 nginsurrey.co.uk/events/free-lg-networking-morning-4
DTSTART;TZID=Europe/London:20101129T110000
DTEND;TZID=Europe/London:20101129T123000
CATEGORIES:free, morning, weybridge, business_networking_surrey, lg_ne
 tworking
LOCATION:Oatlands Chaser, Weybridge KT13 9RW
WEBSITE:http://www.lgnetworking.co.uk
URL:http://www.lgnetworking.co.uk
CONTACT:01932 350 939
ORGANIZER:Catherine Jackson
ATTACH;FMTTYPE="image/jpeg":http://storage.ning.com/topology/rest/1.0/
 file/get/2591375239?profile=original
ATTENDEE;ROLE=REQ-PARTICIPANT;PARTSTAT=ACCEPTED;RSVP=TRUE;CN="Steve Br
 idger":https://networkinginsurrey.co.uk/profile/SteveBridger
ATTENDEE;ROLE=REQ-PARTICIPANT;PARTSTAT=ACCEPTED;RSVP=TRUE;CN="Rosemary
  Hemmett":https://networkinginsurrey.co.uk/profile/RosemaryHemmett
ATTENDEE;ROLE=REQ-PARTICIPANT;PARTSTAT=ACCEPTED;RSVP=TRUE;CN="Keith Gr
 over, NiS Founder":https://networkinginsurrey.co.uk/profile/KeithGrove
 r
END:VEVENT
END:VCALENDAR
