BEGIN:VCALENDAR
PRODID:NingEventWidget-v1
VERSION:2.0
METHOD:PUBLISH
BEGIN:VTIMEZONE
TZID:Europe/London
X-LIC-LOCATION:Europe/London
BEGIN:DAYLIGHT
TZOFFSETFROM:+0000
TZOFFSETTO:+0100
TZNAME:BST
DTSTART:19700329T010000
RRULE:FREQ=YEARLY;BYMONTH=3;BYDAY=-1SU
END:DAYLIGHT
BEGIN:STANDARD
TZOFFSETFROM:+0100
TZOFFSETTO:+0000
TZNAME:GMT
DTSTART:19701025T020000
RRULE:FREQ=YEARLY;BYMONTH=10;BYDAY=-1SU
END:STANDARD
END:VTIMEZONE
BEGIN:VEVENT
UID:4626108:Event:2701
DTSTAMP:20260425T214747Z
SUMMARY:FREE Ladies Who Latte Morning, Sutton & Banstead
DESCRIPTION:Ladies Who Latte Morning, Sutton & Banstead\n\nThis is suc
 h a rapidly growing Women's Networking group that we had to move to a 
 biggger venue! Come and join this friendly but dynamic group and tell 
 us about how we can help you grow your business\nCOST: There is no mee
 ting cost - just buy your own drink or pastry... MAP\n\nVENUE\n-------
 --------------------------\nThe Sutton & Bamstead event is organised b
 y NiS Member Yvonne Stone.\n\nFor more information visit https://netwo
 rkinginsurrey.co.uk/events/free-ladies-who-latte-morning
DTSTART;TZID=Europe/London:20100706T100000
DTEND;TZID=Europe/London:20100706T120000
CATEGORIES:morning, free, women, ladies_who_latte, business_networking
LOCATION:Brasserie Vacherin SM1 1HN
WEBSITE:http://www.brasserievacherin.co.uk/default.htm
URL:http://www.brasserievacherin.co.uk/default.htm
CONTACT:
ORGANIZER:Yvonne Stone
ATTACH;FMTTYPE="image/jpeg":http://storage.ning.com/topology/rest/1.0/
 file/get/2591387456?profile=original
END:VEVENT
END:VCALENDAR
