BEGIN:VCALENDAR
PRODID:NingEventWidget-v1
VERSION:2.0
METHOD:PUBLISH
BEGIN:VTIMEZONE
TZID:Europe/London
X-LIC-LOCATION:Europe/London
BEGIN:DAYLIGHT
TZOFFSETFROM:+0000
TZOFFSETTO:+0100
TZNAME:BST
DTSTART:19700329T010000
RRULE:FREQ=YEARLY;BYMONTH=3;BYDAY=-1SU
END:DAYLIGHT
BEGIN:STANDARD
TZOFFSETFROM:+0100
TZOFFSETTO:+0000
TZNAME:GMT
DTSTART:19701025T020000
RRULE:FREQ=YEARLY;BYMONTH=10;BYDAY=-1SU
END:STANDARD
END:VTIMEZONE
BEGIN:VEVENT
UID:4626108:Event:85506
DTSTAMP:20260422T193558Z
SUMMARY:FREE Ladies who Latte Morning, Farnham
DESCRIPTION:Ladies Who Latte Morning at the Hogs Back Hotel, Farnham \
 n\nWe are a friendly and relaxed Ladies networking group that meet on 
 the last Thursday of the month.at The Hogs Back Hotel, Farnham.  The 
 format is very relaxed. Doors open from 10.00 (not before please). Co
 me and  grab a coffee or tea, network and be ready for 10.30 when ev
 eryone does a brief 1 minute introduction.\nWith Ladies Who Latte ther
 e are no limits as to the types of business ladies who can attend and 
 no membership fees: simply  pay £5.00 in cash on the day to cover th
 e cost of your refreshments and venue for networking.\nPlease remember
  to bring business cards and leaflets to display on the table for othe
 rs to pick up. Don’t forget to bring your smile too!\nCOST:  £5 in
 cludes  tea or coffee\nBOOKING: No need to book - just turn up!\nMAP\
 nDIRECTIONS\n \n\n\nFor more information visit https://networkinginsu
 rrey.co.uk/events/free-ladies-who-latte-morning-farnham-3
DTSTART;TZID=Europe/London:20180426T100000
DTEND;TZID=Europe/London:20180426T113000
CATEGORIES:free, morning, women, networking, farnham
LOCATION:Hog's Back Hotel
WEBSITE:https://www.google.co.uk/maps/@51.226293,-0.7246604,17z?hl=en
URL:https://www.google.co.uk/maps/@51.226293,-0.7246604,17z?hl=en
CONTACT:07816847775
ORGANIZER;CN="Katie Shorrock":https://networkinginsurrey.co.uk/profile
 /KatieShorrock
ATTACH;FMTTYPE="image/jpeg":http://storage.ning.com/topology/rest/1.0/
 file/get/2591393568?profile=original
ATTENDEE;ROLE=REQ-PARTICIPANT;PARTSTAT=ACCEPTED;RSVP=TRUE;CN="Katie Sh
 orrock":https://networkinginsurrey.co.uk/profile/KatieShorrock
ATTENDEE;ROLE=REQ-PARTICIPANT;PARTSTAT=ACCEPTED;RSVP=TRUE;CN="Jacqueli
 ne Smith":https://networkinginsurrey.co.uk/profile/JacquelineSmith
ATTENDEE;ROLE=REQ-PARTICIPANT;PARTSTAT=ACCEPTED;RSVP=TRUE;CN="Yasemin 
 Moncur":https://networkinginsurrey.co.uk/profile/YaseminMoncur
END:VEVENT
END:VCALENDAR
