BEGIN:VCALENDAR
PRODID:NingEventWidget-v1
VERSION:2.0
METHOD:PUBLISH
BEGIN:VTIMEZONE
TZID:Europe/London
X-LIC-LOCATION:Europe/London
BEGIN:DAYLIGHT
TZOFFSETFROM:+0000
TZOFFSETTO:+0100
TZNAME:BST
DTSTART:19700329T010000
RRULE:FREQ=YEARLY;BYMONTH=3;BYDAY=-1SU
END:DAYLIGHT
BEGIN:STANDARD
TZOFFSETFROM:+0100
TZOFFSETTO:+0000
TZNAME:GMT
DTSTART:19701025T020000
RRULE:FREQ=YEARLY;BYMONTH=10;BYDAY=-1SU
END:STANDARD
END:VTIMEZONE
BEGIN:VEVENT
UID:4626108:Event:95919
DTSTAMP:20260423T040757Z
SUMMARY:FREE Ladies who Latte Morning, Farnham
DESCRIPTION:Ladies Who Latte Morning at the Hogs Back Hotel, Farnham  
 \r\nWe are a friendly and relaxed Ladies Who Latte group who meet for 
 coffee and a chat on the last Thursday of the month. \r\nThe idea is 
 that you meet and form business relationships with like-minded people.
  You make the relationships, we provide the opportunity and environmen
 t in which to do it. There are no limits to who can attend.\r\nEveryon
 e has a minute to introduce themselves and their business and there ar
 e no membership fees: simply £5 in cash on the day. Please remember
  to bring business cards and leaflets to display on the table for othe
 rs to pick up. Don’t forget to bring your smile too!\r\nCOST:  £5 
 includes  tea or coffee\r\nBOOKING: No need to book - just turn up!\r
 \nMAP\r\nDIRECTIONS\r\n \r\n\n\nFor more information visit https://ne
 tworkinginsurrey.co.uk/events/free-ladies-who-latte-morning-farnham-13
DTSTART;TZID=Europe/London:20180125T100000
DTEND;TZID=Europe/London:20180125T113000
CATEGORIES:free, morning, women, networking, farnham
LOCATION:Hog's Back Hotel
WEBSITE:https://www.google.co.uk/maps/@51.226293,-0.7246604,17z?hl=en
URL:https://www.google.co.uk/maps/@51.226293,-0.7246604,17z?hl=en
CONTACT:
ORGANIZER;CN="Katie Shorrock":https://networkinginsurrey.co.uk/profile
 /KatieShorrock
ATTACH;FMTTYPE="image/jpeg":http://storage.ning.com/topology/rest/1.0/
 file/get/2591393568?profile=original
ATTENDEE;ROLE=REQ-PARTICIPANT;PARTSTAT=ACCEPTED;RSVP=TRUE;CN="Katie Sh
 orrock":https://networkinginsurrey.co.uk/profile/KatieShorrock
END:VEVENT
END:VCALENDAR
