BEGIN:VCALENDAR
PRODID:NingEventWidget-v1
VERSION:2.0
METHOD:PUBLISH
BEGIN:VTIMEZONE
TZID:Europe/London
X-LIC-LOCATION:Europe/London
BEGIN:DAYLIGHT
TZOFFSETFROM:+0000
TZOFFSETTO:+0100
TZNAME:BST
DTSTART:19700329T010000
RRULE:FREQ=YEARLY;BYMONTH=3;BYDAY=-1SU
END:DAYLIGHT
BEGIN:STANDARD
TZOFFSETFROM:+0100
TZOFFSETTO:+0000
TZNAME:GMT
DTSTART:19701025T020000
RRULE:FREQ=YEARLY;BYMONTH=10;BYDAY=-1SU
END:STANDARD
END:VTIMEZONE
BEGIN:VEVENT
UID:4626108:Event:5956
DTSTAMP:20260422T035210Z
SUMMARY:FREE Ladies Who Latte Morning, Epsom
DESCRIPTION:Ladies Who Latte Morning at the Slug & Lettuce\n \nNetwor
 k for free with inspirational business women in your area at LadiesWho
 Latte. We have over 30 FREE meetings every month where you simply turn
  up grab a coffee and network. No speakers, no agenda, and no meeting 
 fee.\nCome and join this friendly but dynamic group and tell us about 
 how we can help you grow your business.\nCOST: There is no meeting cos
 t - just buy your own drink or pastry...\nMAP\n-----------------------
 ----------\nThe Epsom event is organised by NiS Member Yvonne Stone.\n
 \nFor more information visit https://networkinginsurrey.co.uk/events/f
 ree-ladies-who-latte-morning-4
DTSTART;TZID=Europe/London:20110119T103000
DTEND;TZID=Europe/London:20110119T123000
CATEGORIES:morning, free, women, ladies_who_latte, business_networking
LOCATION:Slug & Lettuce
WEBSITE:http://www.slugandlettuce.co.uk/epsom/
URL:http://www.slugandlettuce.co.uk/epsom/
CONTACT:020 8647 2924
ORGANIZER;CN="Yvonne Stone":https://networkinginsurrey.co.uk/profile/Y
 vonneStone
ATTACH;FMTTYPE="image/jpeg":http://api.ning.com:80/files/oIJo9yl7j55oC
 TCeiUmGRME8Txn5WW7Q36ToY3mGEYD14PaUBXoK3320HQO0p2Krl8cBeCqoPfYfa4ovXfd
 1MQq7sJuru5J6/LadiesWhoLatteEpsom.jpg
ATTENDEE;ROLE=REQ-PARTICIPANT;PARTSTAT=ACCEPTED;RSVP=TRUE;CN="Sandra C
 ollins":https://networkinginsurrey.co.uk/profile/SandraCollins
ATTENDEE;ROLE=REQ-PARTICIPANT;PARTSTAT=ACCEPTED;RSVP=TRUE;CN="Peggy Po
 yser":https://networkinginsurrey.co.uk/profile/PeggyPoyser
ATTENDEE;ROLE=REQ-PARTICIPANT;PARTSTAT=ACCEPTED;RSVP=TRUE;CN="Rosemary
  Hemmett":https://networkinginsurrey.co.uk/profile/RosemaryHemmett
ATTENDEE;ROLE=REQ-PARTICIPANT;PARTSTAT=ACCEPTED;RSVP=TRUE;CN="Yvonne S
 tone":https://networkinginsurrey.co.uk/profile/YvonneStone
END:VEVENT
END:VCALENDAR
