BEGIN:VCALENDAR
PRODID:NingEventWidget-v1
VERSION:2.0
METHOD:PUBLISH
BEGIN:VTIMEZONE
TZID:Europe/London
X-LIC-LOCATION:Europe/London
BEGIN:DAYLIGHT
TZOFFSETFROM:+0000
TZOFFSETTO:+0100
TZNAME:BST
DTSTART:19700329T010000
RRULE:FREQ=YEARLY;BYMONTH=3;BYDAY=-1SU
END:DAYLIGHT
BEGIN:STANDARD
TZOFFSETFROM:+0100
TZOFFSETTO:+0000
TZNAME:GMT
DTSTART:19701025T020000
RRULE:FREQ=YEARLY;BYMONTH=10;BYDAY=-1SU
END:STANDARD
END:VTIMEZONE
BEGIN:VEVENT
UID:4626108:Event:5953
DTSTAMP:20260422T191547Z
SUMMARY:FREE Ladies Who Latte Morning - Epsom
DESCRIPTION:Ladies Who Latte Morning at the Assembly Rooms\n\nNetwork 
 for free with inspirational business women in your area at LadiesWhoLa
 tte. We have over 30 FREE meetings every month where you simply turn u
 p grab a coffee and network. No speakers, no agenda, and no meeting fe
 e.\nCome and join this friendly but dynamic group and tell us about ho
 w we can help you grow your business.\nCOST: There is no meeting cost 
 - just buy your own drink or pastry...\nMAP\n-------------------------
 --------\nThe Epsom event is organised by NiS Member Yvonne Stone.\n\n
 For more information visit https://networkinginsurrey.co.uk/events/fre
 e-ladies-who-latte-morning-3
DTSTART;TZID=Europe/London:20101215T100000
DTEND;TZID=Europe/London:20101215T120000
CATEGORIES:morning, free, women, ladies_who_latte, business_networking
LOCATION:The Assembly Rooms KT19 8EH
WEBSITE:
URL:
CONTACT:020 8647 2924
ORGANIZER;CN="Yvonne Stone":https://networkinginsurrey.co.uk/profile/Y
 vonneStone
ATTACH;FMTTYPE="image/jpeg":http://storage.ning.com/topology/rest/1.0/
 file/get/2591387216?profile=original
ATTENDEE;ROLE=REQ-PARTICIPANT;PARTSTAT=ACCEPTED;RSVP=TRUE;CN="Tessa Ho
 od":https://networkinginsurrey.co.uk/profile/TessaHood
ATTENDEE;ROLE=REQ-PARTICIPANT;PARTSTAT=ACCEPTED;RSVP=TRUE;CN="Yvonne S
 tone":https://networkinginsurrey.co.uk/profile/YvonneStone
END:VEVENT
END:VCALENDAR
