BEGIN:VCALENDAR
PRODID:NingEventWidget-v1
VERSION:2.0
METHOD:PUBLISH
BEGIN:VTIMEZONE
TZID:Europe/London
X-LIC-LOCATION:Europe/London
BEGIN:DAYLIGHT
TZOFFSETFROM:+0000
TZOFFSETTO:+0100
TZNAME:BST
DTSTART:19700329T010000
RRULE:FREQ=YEARLY;BYMONTH=3;BYDAY=-1SU
END:DAYLIGHT
BEGIN:STANDARD
TZOFFSETFROM:+0100
TZOFFSETTO:+0000
TZNAME:GMT
DTSTART:19701025T020000
RRULE:FREQ=YEARLY;BYMONTH=10;BYDAY=-1SU
END:STANDARD
END:VTIMEZONE
BEGIN:VEVENT
UID:4626108:Event:5960
DTSTAMP:20260422T145631Z
SUMMARY:FREE Ladies Who Latte Morning, Sutton
DESCRIPTION:Ladies Who Latte Morning at the Holiday Inn\n\nCome and jo
 in this regular Women's Networking event, meeting on the first Tuesday
  of each month. It's a very friendly group - bring plenty of cards and
  examples of what you do! Ladies Who Latte is a business networking gr
 oup with the aim of putting women in business in contact with each oth
 er for their mutual benefit. Unlike many other networking groups we wi
 ll never tie you in with high joining fees or long-term commitments; s
 imply come along, chat and network, listen to our speakers, network so
 me more if you like, then go back to work!\nCOST: There is no meeting 
 cost - just buy your own drink or pastry...\nMAP\n--------------------
 -------------\nThe Sutton event is organised by NiS Member Yvonne Ston
 e. Sutton is one of a growing number of branches of the Ladies Who Lat
 te business networking groups. Our group covers Banstead, Sutton and s
 urrounding areas - please feel free to contact us if you are not sure 
 if geographically, our branch is the best fit for you\n\nFor more info
 rmation visit https://networkinginsurrey.co.uk/events/free-ladies-who-
 latte-morning-2
DTSTART;TZID=Europe/London:20110104T100000
DTEND;TZID=Europe/London:20110104T120000
CATEGORIES:women, networking, free
LOCATION:Junction Bar, Holiday Inn Sutton SM1 2RF
WEBSITE:http://www.suttonladieswholatte.co.uk/index.html
URL:http://www.suttonladieswholatte.co.uk/index.html
CONTACT:020 8647 2924
ORGANIZER;CN="Yvonne Stone":https://networkinginsurrey.co.uk/profile/Y
 vonneStone
ATTACH;FMTTYPE="image/jpeg":http://storage.ning.com/topology/rest/1.0/
 file/get/2591387436?profile=original
ATTENDEE;ROLE=REQ-PARTICIPANT;PARTSTAT=ACCEPTED;RSVP=TRUE;CN="Nicky Ru
 dd":https://networkinginsurrey.co.uk/profile/NickyRudd
ATTENDEE;ROLE=REQ-PARTICIPANT;PARTSTAT=ACCEPTED;RSVP=TRUE;CN="Yvonne S
 tone":https://networkinginsurrey.co.uk/profile/YvonneStone
ATTENDEE;ROLE=REQ-PARTICIPANT;PARTSTAT=TENTATIVE;RSVP=TRUE;CN="Avril J
 ones LRPS":https://networkinginsurrey.co.uk/profile/AvrilJones
ATTENDEE;ROLE=REQ-PARTICIPANT;PARTSTAT=TENTATIVE;RSVP=TRUE;CN="Wendy A
 ger":https://networkinginsurrey.co.uk/profile/WendyAger
END:VEVENT
END:VCALENDAR
