BEGIN:VCALENDAR
PRODID:NingEventWidget-v1
VERSION:2.0
METHOD:PUBLISH
BEGIN:VTIMEZONE
TZID:Europe/London
X-LIC-LOCATION:Europe/London
BEGIN:DAYLIGHT
TZOFFSETFROM:+0000
TZOFFSETTO:+0100
TZNAME:BST
DTSTART:19700329T010000
RRULE:FREQ=YEARLY;BYMONTH=3;BYDAY=-1SU
END:DAYLIGHT
BEGIN:STANDARD
TZOFFSETFROM:+0100
TZOFFSETTO:+0000
TZNAME:GMT
DTSTART:19701025T020000
RRULE:FREQ=YEARLY;BYMONTH=10;BYDAY=-1SU
END:STANDARD
END:VTIMEZONE
BEGIN:VEVENT
UID:4626108:Event:6992
DTSTAMP:20260422T035207Z
SUMMARY:FREE Investment & Funding Opportunities Morning Workshop, Guil
 dford
DESCRIPTION:Investment Readiness & Funding Opportunities\n\nThis works
 hop will help you understand the types and sources of investment avail
 able and help you to present a winning investment proposition.\nThe da
 y will cover:\n\nAssessment of delegates’ objectives\nCompany strate
 gy & investment readiness\nAccessing funding for investment\nOur exper
 ience in fund raising\nFunding options\nPresenting financial forecasts
 \nThe investment pitch\n\nIf you are serious about raising finance to 
 grow your business, do not miss this workshop.\nBOOK NOW: Call Sharon 
 Hammond on 01483 685 232 or emall surreyhants@innovationgrowth.co.uk\n
  \nCOST: FREE -book now to secure your place\nMAP\n-----------------
 -----------\nThroughout the year, the Surrey & Hants Innovation and Gr
 owth Team hosts a series of events designed to help our members and ot
 hers in the business community.These events include interactive worksh
 ops, seminars and briefings, and almost always offer the chance to net
 work with individuals and businesses.\n\nFor more information visit ht
 tps://networkinginsurrey.co.uk/events/free-investment-funding
DTSTART;TZID=Europe/London:20110125T090000
DTEND;TZID=Europe/London:20110125T130000
CATEGORIES:free, workshop, morning, guildford
LOCATION:The Surrey Research Park GU2 7EF
WEBSITE:http://www.innovationgrowth.co.uk/surreyhants/local_events/vie
 w/workshop_investment_readiness
URL:http://www.innovationgrowth.co.uk/surreyhants/local_events/view/wo
 rkshop_investment_readiness
CONTACT:01483 685 232
ORGANIZER:Sharon Hammond, Surrey & Hants Innovation and Growth Team
ATTACH;FMTTYPE="image/jpeg":http://storage.ning.com/topology/rest/1.0/
 file/get/2591389437?profile=original
ATTENDEE;ROLE=REQ-PARTICIPANT;PARTSTAT=ACCEPTED;RSVP=TRUE;CN="Carole H
 azlerigg":https://networkinginsurrey.co.uk/profile/CaroleHazlerigg
ATTENDEE;ROLE=REQ-PARTICIPANT;PARTSTAT=ACCEPTED;RSVP=TRUE;CN="Keith Gr
 over, NiS Founder":https://networkinginsurrey.co.uk/profile/KeithGrove
 r
END:VEVENT
END:VCALENDAR
