BEGIN:VCALENDAR
PRODID:NingEventWidget-v1
VERSION:2.0
METHOD:PUBLISH
BEGIN:VTIMEZONE
TZID:Europe/London
X-LIC-LOCATION:Europe/London
BEGIN:DAYLIGHT
TZOFFSETFROM:+0000
TZOFFSETTO:+0100
TZNAME:BST
DTSTART:19700329T010000
RRULE:FREQ=YEARLY;BYMONTH=3;BYDAY=-1SU
END:DAYLIGHT
BEGIN:STANDARD
TZOFFSETFROM:+0100
TZOFFSETTO:+0000
TZNAME:GMT
DTSTART:19701025T020000
RRULE:FREQ=YEARLY;BYMONTH=10;BYDAY=-1SU
END:STANDARD
END:VTIMEZONE
BEGIN:VEVENT
UID:4626108:Event:9757
DTSTAMP:20260422T215951Z
SUMMARY:FREE Intellectual Property Morning Workshop, Guildford
DESCRIPTION:'Every Business Owns IP - What do you Own?' at Surrey Tech
 nology Centre\n\n\nKnow what types of Intellectual Property (IP) your
  business has and how best to get maximum value from them.\n\nThe Inno
 vation & Growth Team are delighted to announce that the Intellectual P
 roperty Office will partner with us to facilitate a workshop covering 
 this complicated topic.\nWhere do you start? Whilst it is obvious you 
 should protect your inventions (i.e. your product) less obvious is you
 r design, branding, logo etc. Do you own what you think you own?\nWork
 shop\nThe aim is to give you a good overview of intellectual property 
 and how it can impact on your company. Delegates will be split into sm
 all teams and be presented with scenarios in which intellectual proper
 ty is crucial to a business. Once the teams have debated the scenario 
 amongst themselves, the IPO speakers will go through the best route to
  the solution.\nPlease book early as places are very limited.\n COST
 : FREE -book now to secure your place\nBOOK NOW: Call Sharon Hammond 
 on 01483 685 232 or emall surreyhants@innovationgrowth.co.uk\n\nMAP\n-
 ---------------------------\nThroughout the year, the Surrey & Hants I
 nnovation and Growth Team hosts a series of events designed to help ou
 r members and others in the business community.These events include in
 teractive workshops, seminars and briefings, and almost always offer t
 he chance to network with individuals and businesses.\n\n\nFor more in
 formation visit https://networkinginsurrey.co.uk/events/free-intellect
 ual-property
DTSTART;TZID=Europe/London:20110401T090000
DTEND;TZID=Europe/London:20110401T130000
CATEGORIES:workshop, free, morning, guildford
LOCATION:Surrey Technology Centre GU2 7EF
WEBSITE:http://www.innovationgrowth.co.uk/surreyhants/local_events
URL:http://www.innovationgrowth.co.uk/surreyhants/local_events
CONTACT:01483 685 232
ORGANIZER:Sharon Hammond
ATTACH;FMTTYPE="image/jpeg":http://storage.ning.com/topology/rest/1.0/
 file/get/2591389437?profile=original
ATTENDEE;ROLE=REQ-PARTICIPANT;PARTSTAT=ACCEPTED;RSVP=TRUE;CN="Keith Gr
 over, NiS Founder":https://networkinginsurrey.co.uk/profile/KeithGrove
 r
END:VEVENT
END:VCALENDAR
