BEGIN:VCALENDAR
PRODID:NingEventWidget-v1
VERSION:2.0
METHOD:PUBLISH
BEGIN:VTIMEZONE
TZID:Europe/London
X-LIC-LOCATION:Europe/London
BEGIN:DAYLIGHT
TZOFFSETFROM:+0000
TZOFFSETTO:+0100
TZNAME:BST
DTSTART:19700329T010000
RRULE:FREQ=YEARLY;BYMONTH=3;BYDAY=-1SU
END:DAYLIGHT
BEGIN:STANDARD
TZOFFSETFROM:+0100
TZOFFSETTO:+0000
TZNAME:GMT
DTSTART:19701025T020000
RRULE:FREQ=YEARLY;BYMONTH=10;BYDAY=-1SU
END:STANDARD
END:VTIMEZONE
BEGIN:VEVENT
UID:4626108:Event:8723
DTSTAMP:20260423T181558Z
SUMMARY:FREE Innovations in Engineering Forum Morning, Guildford
DESCRIPTION:Business Technology Update: Engineering Analysis with our 
 Team of Experts \n\nBusiness leaders, engineers and innovators are in
 vited to attend this dynamic Business Technology Forum on Engineering 
 Innovations. FIVE companies in the Innovation & Growth Team network pr
 ovide insight into how to drive profitable, high growth businesses via
  innovative product ideas, design, prototyping and manufacture.• Hea
 r about innovations in advanced materials, mechanical systems, automot
 ive and environmental technologies.• Find out how to implement effic
 ient New Product Development [NPD] processes spanning idea generation,
  product design and detail and concurrent engineering.• Network and 
 exchange ideas with likeminded business leaders, engineers and innovat
 ors and explore opportunities for collaboration and shared utilisation
  of facilities for design, prototyping and manufacture.AGENDAInnovatio
 n & Growth Team Welcome and introduction, followed by presentations fr
 om our experts...TISICS Ltd Light, strong, corrosion resistant: A new 
 material for high performance applicationTBS3 Ltd Development of innov
 ative mechanical fuseHawkley Group Transport Load Monitoring in Niche 
 MarketsMagnet Schultz Ltd Concurrent engineering reduces customers’ 
 lead-time to marketPuroPure Ltd Development of a novel on-site disposa
 l system for low volume, high value wasteThis event is a must for all 
 CEOs, R&D Directors, Heads of Engineering and Product development prac
 titioners.\nClick here for more details on our Presenter organisations
 \nCOST: FREE -book now to secure your place\nBOOK NOW: Call Sharon Ha
 mmond on 01483 685 232 or emall surreyhants@innovationgrowth.co.uk\nMA
 P\n----------------------------\nThroughout the year, the Surrey & Han
 ts Innovation and Growth Team hosts a series of events designed to hel
 p our members and others in the business community.These events includ
 e interactive workshops, seminars and briefings, and almost always off
 er the chance to network with individuals and businesses.\n\nFor more 
 information visit https://networkinginsurrey.co.uk/events/free-innovat
 ions-in
DTSTART;TZID=Europe/London:20110223T203000
DTEND;TZID=Europe/London:20110223T223000
CATEGORIES:workshop, free, guildford, morning
LOCATION:The Surrey Research Park GU2 7EF
WEBSITE:http://www.innovationgrowth.co.uk/surreyhants
URL:http://www.innovationgrowth.co.uk/surreyhants
CONTACT:01483 685 232
ORGANIZER:Sharon Hammond
ATTACH;FMTTYPE="image/jpeg":http://storage.ning.com/topology/rest/1.0/
 file/get/2591389437?profile=original
ATTENDEE;ROLE=REQ-PARTICIPANT;PARTSTAT=ACCEPTED;RSVP=TRUE;CN="Keith Gr
 over, NiS Founder":https://networkinginsurrey.co.uk/profile/KeithGrove
 r
END:VEVENT
END:VCALENDAR
