BEGIN:VCALENDAR
PRODID:NingEventWidget-v1
VERSION:2.0
METHOD:PUBLISH
BEGIN:VTIMEZONE
TZID:Europe/London
X-LIC-LOCATION:Europe/London
BEGIN:DAYLIGHT
TZOFFSETFROM:+0000
TZOFFSETTO:+0100
TZNAME:BST
DTSTART:19700329T010000
RRULE:FREQ=YEARLY;BYMONTH=3;BYDAY=-1SU
END:DAYLIGHT
BEGIN:STANDARD
TZOFFSETFROM:+0100
TZOFFSETTO:+0000
TZNAME:GMT
DTSTART:19701025T020000
RRULE:FREQ=YEARLY;BYMONTH=10;BYDAY=-1SU
END:STANDARD
END:VTIMEZONE
BEGIN:VEVENT
UID:4626108:Event:17911
DTSTAMP:20260423T064018Z
SUMMARY:FREE Guildford Means Business Exhibition
DESCRIPTION:Guildford Means Business - 4th successful year!\n\nCome an
 d join us for the fourth year at Guildford Spectrum Leisure Complex fo
 r one of Surrey's most successful business to business exhibitions.\nT
 his year Guildford Means Business takes over from Grow Your Business, 
 with the show’s sponsors are all firmly committed to the success of 
 Guildford’s business community. Guildford Borough Council, of course
 , Surrey Chambers of Commerce, with Eagle Radio and Surrey Advertiser 
 both based in the town and The Best of Guildford all strongly support 
 this event and will be working with the organisers to make sure the ex
 hibition is a great success.\nOver 70 exhibitors, and a strong line up
  of seminar speakers and free 1-2-1 advice clinics ensure that there 
 will be something for everyone concerned about the growth and future s
 uccess of their business.\nCOST: Just 4 Stands remaining (from £500) 
 - and you can visit for FREE!\nREGISTER HERE to attend free of charge
 , and book your free seminar places\nEXHIBIOR INFO Take a stand for yo
 ur business!\nMAP (pdf) (Red arrow shows location)\n-----------------
 ----------------------\nThis event is organised by NiS Member James We
 bster of The Webster Partnership\n\nFor more information visit https:/
 /networkinginsurrey.co.uk/events/free-guildford-means-business
DTSTART;TZID=Europe/London:20110518T093000
DTEND;TZID=Europe/London:20110518T170000
CATEGORIES:exhibition, guildford, free
LOCATION:Spectrum Leisure Complex, Guildford  GU1 1UP
WEBSITE:
URL:
CONTACT:
ORGANIZER:James Webster
ATTACH;FMTTYPE="image/jpeg":http://storage.ning.com/topology/rest/1.0/
 file/get/2591391066?profile=original
ATTENDEE;ROLE=REQ-PARTICIPANT;PARTSTAT=ACCEPTED;RSVP=TRUE;CN="Keith Gr
 over, NiS Founder":https://networkinginsurrey.co.uk/profile/KeithGrove
 r
END:VEVENT
END:VCALENDAR
