BEGIN:VCALENDAR
PRODID:NingEventWidget-v1
VERSION:2.0
METHOD:PUBLISH
BEGIN:VTIMEZONE
TZID:Europe/London
X-LIC-LOCATION:Europe/London
BEGIN:DAYLIGHT
TZOFFSETFROM:+0000
TZOFFSETTO:+0100
TZNAME:BST
DTSTART:19700329T010000
RRULE:FREQ=YEARLY;BYMONTH=3;BYDAY=-1SU
END:DAYLIGHT
BEGIN:STANDARD
TZOFFSETFROM:+0100
TZOFFSETTO:+0000
TZNAME:GMT
DTSTART:19701025T020000
RRULE:FREQ=YEARLY;BYMONTH=10;BYDAY=-1SU
END:STANDARD
END:VTIMEZONE
BEGIN:VEVENT
UID:4626108:Event:416028
DTSTAMP:20260421T143834Z
SUMMARY:FREE Guildford Connections Breakfast Time Online
DESCRIPTION:Guildford Connections Online\r\n\r\nWe actually made it ba
 ck to a couple of 'Covid-safe'  physical meetings this month BUT... s
 orry, it's back to virtual meetings - UNLESS and until we can find a w
 ay of complying with Government guidelines, in conjunction with our lo
 vely venues.\r\nSo, please register to attend each meeting virtually f
 or now - and we will let you know if and when things change!\r\nIt's n
 ot the same as being there, but .... desperate times require desperate
  measures and it keeps things going for now and allows you to maintain
  relationships with your fellow members - as we all know, out of sight
  means out of mind!\r\n\r\nVisitors are welcome but meetings will be r
 estricted to 35 Max with priority for members so please do join us b
 ut register early. If you are unable to join it will be because we hav
 e reached max capacity (there's no physical limit but we will all be d
 oing 60 secs and it will take too long if the group is too large).\r\n
 Our meetings are run by Paul Bridgland & Greg Holden - Business sho
 uld be fun!\r\n\r\n\r\nCOST: FREE to take part - registration is ess
 ential please and priority will be given to Woking Connections Members
 \r\nBOOKING: Please follow this link...  to register for the meeting
  and we'll send you the link to join (Meeting password: 485721)\r\nChe
 ck out our website here...\r\n\n\nFor more information visit https://
 networkinginsurrey.co.uk/events/free-guildford-connections-breakfast-t
 ime-online-9
DTSTART;TZID=Europe/London:20201007T083000
DTEND;TZID=Europe/London:20201007T100000
CATEGORIES:breakfast, woking, connect_surrey
LOCATION:Online only
WEBSITE:
URL:
CONTACT:
ORGANIZER:Paul Bridgland and Greg Holden
ATTACH;FMTTYPE="image/jpeg":https://storage.ning.com/topology/rest/1.0
 /file/get/4169746646?profile=original
ATTENDEE;ROLE=REQ-PARTICIPANT;PARTSTAT=ACCEPTED;RSVP=TRUE;CN="Paul A B
 ridgland":https://networkinginsurrey.co.uk/profile/PaulABridgland
END:VEVENT
END:VCALENDAR
